BEGIN:VCALENDAR
VERSION:2.0
PRODID:-//輪島たび結び｜能登輪島観光情報発信｜輪島市観光課・観光協会公式サイト - ECPv6.15.17//NONSGML v1.0//EN
CALSCALE:GREGORIAN
METHOD:PUBLISH
X-WR-CALNAME:輪島たび結び｜能登輪島観光情報発信｜輪島市観光課・観光協会公式サイト
X-ORIGINAL-URL:https://wajimanavi.jp
X-WR-CALDESC:輪島たび結び｜能登輪島観光情報発信｜輪島市観光課・観光協会公式サイト のイベント
REFRESH-INTERVAL;VALUE=DURATION:PT1H
X-Robots-Tag:noindex
X-PUBLISHED-TTL:PT1H
BEGIN:VTIMEZONE
TZID:Asia/Tokyo
BEGIN:STANDARD
TZOFFSETFROM:+0900
TZOFFSETTO:+0900
TZNAME:JST
DTSTART:20220101T000000
END:STANDARD
END:VTIMEZONE
BEGIN:VEVENT
DTSTART;TZID=Asia/Tokyo:20230416T000000
DTEND;TZID=Asia/Tokyo:20230416T235959
DTSTAMP:20260426T001002
CREATED:20230218T000012Z
LAST-MODIFIED:20230218T000012Z
UID:10000062-1681603200-1681689599@wajimanavi.jp
SUMMARY:千枚田　あぜ塗り
DESCRIPTION:水入れ前の大事な作業！ \nあぜ塗りとは、田んぼの土を田んぼを取り囲む土の壁に塗りつけ、割れ目や穴を防ぐ防水加工のことです！ \nあぜ塗りをすることで、冬場の間に出来た小さなヒビや、動物や昆虫が空けた穴から水が洩れるのを防ぎます。水の管理や、肥料・除草剤の効果を高める為に行うとても大切な作業です。 \n力仕事ですが、美味しい千枚田のお米を収穫するためにも頑張りましょう。
URL:https://wajimanavi.jp/event/senmaidaazenuri
LOCATION:Calendar Views (イベント Archive)
CATEGORIES:イベント,千枚田
ATTACH;FMTTYPE=image/jpeg:https://wajimanavi.jp/wp-content/uploads/2023/02/16814301052811.jpg
END:VEVENT
END:VCALENDAR