BEGIN:VCALENDAR
VERSION:2.0
PRODID:-//輪島たび結び｜能登輪島観光情報発信｜輪島市観光課・観光協会公式サイト - ECPv6.15.17//NONSGML v1.0//EN
CALSCALE:GREGORIAN
METHOD:PUBLISH
X-ORIGINAL-URL:https://wajimanavi.jp
X-WR-CALDESC:輪島たび結び｜能登輪島観光情報発信｜輪島市観光課・観光協会公式サイト のイベント
REFRESH-INTERVAL;VALUE=DURATION:PT1H
X-Robots-Tag:noindex
X-PUBLISHED-TTL:PT1H
BEGIN:VTIMEZONE
TZID:Asia/Tokyo
BEGIN:STANDARD
TZOFFSETFROM:+0900
TZOFFSETTO:+0900
TZNAME:JST
DTSTART:20220101T000000
END:STANDARD
END:VTIMEZONE
BEGIN:VEVENT
DTSTART;TZID=Asia/Tokyo:20230731T000000
DTEND;TZID=Asia/Tokyo:20230801T235959
DTSTAMP:20260425T000524
CREATED:20230625T000040Z
LAST-MODIFIED:20230625T000040Z
UID:10000081-1690761600-1690934399@wajimanavi.jp
SUMMARY:7月31日（月）・8月1日（火）【名舟大祭】通常開催　
DESCRIPTION:2023年の「名舟大祭」は通常通り開催されます。\nただし開催前にお祭りの内容が変更する可能性があります。\n御陣乗太鼓発祥の地へ！\n名舟大祭の目玉は、なんといってもこの地に古くから伝わる「御陣乗太鼓」！\nこの地に伝わる伝統を体験ください…。 \nそれは天正4年（1576年）、上杉謙信の能登攻略のとき、古老の一計で奇妙な面を付け、陣太鼓を打ち鳴らし上杉軍に奇襲をかけ敗走させたのが始まりといわれています。「翁面」「でか面」「夜叉面」「ダルマ面」「男幽面」「女幽面」の6種類の面を付けた6人の男達により叩かれる。\n御陣乗太鼓の伝承は地元に生まれたものにしか資格がなく、今も引き継がれており、石川県指定無形文化財に指定されている。 \n【2023年 名舟大祭 執行日程】\n○7月31日(日)　宵祭\n21:00　キリコ宿元出発合 \n21:30　キリコ神社境内に集合完了(祭事始め 祝詞奏上・子ども御陣乗太鼓) \n22:00　キリコ神社境内を出発 \n22:10　御神輿渡御(舳倉島より神霊お迎え) \n22:30　御陣乗太鼓奉納打ち(御陣乗太鼓本番打ち） \n23:00　御神輿渡御、キリコの町内渡御 \n0:00　御神輿仮屋に到着(御神輿お泊り) \n○8月1日(月)　本祭\n14:00　神楽奉上 御神輿仮屋より出発（御陣乗太鼓が山車で先導） \n14:40　御神輿会場渡卸(舳倉島より神霊お見送り) \n15:00　御陣乗太鼓奉納打ち \n15:20　御神輿社殿に還御 祝詞奏上 \n15:40　創作神楽舞「奥津かぐや姫」奉納 \n16:20　祭礼終了 \n※多少の時間の遅速があります。
URL:https://wajimanavi.jp/event/nabune
LOCATION:0000001166_l
CATEGORIES:イベント,祭り
ATTACH;FMTTYPE=image/jpeg:https://wajimanavi.jp/wp-content/uploads/2018/03/0000001469_l.jpg
END:VEVENT
END:VCALENDAR