BEGIN:VCALENDAR
VERSION:2.0
PRODID:-//輪島たび結び｜能登輪島観光情報発信｜輪島市観光課・観光協会公式サイト - ECPv6.15.17//NONSGML v1.0//EN
CALSCALE:GREGORIAN
METHOD:PUBLISH
X-WR-CALNAME:輪島たび結び｜能登輪島観光情報発信｜輪島市観光課・観光協会公式サイト
X-ORIGINAL-URL:https://wajimanavi.jp
X-WR-CALDESC:輪島たび結び｜能登輪島観光情報発信｜輪島市観光課・観光協会公式サイト のイベント
REFRESH-INTERVAL;VALUE=DURATION:PT1H
X-Robots-Tag:noindex
X-PUBLISHED-TTL:PT1H
BEGIN:VTIMEZONE
TZID:Asia/Tokyo
BEGIN:STANDARD
TZOFFSETFROM:+0900
TZOFFSETTO:+0900
TZNAME:JST
DTSTART:20220101T000000
END:STANDARD
END:VTIMEZONE
BEGIN:VEVENT
DTSTART;TZID=Asia/Tokyo:20230722T000000
DTEND;TZID=Asia/Tokyo:20230722T235959
DTSTAMP:20260425T013442
CREATED:20220622T010117Z
LAST-MODIFIED:20220622T010117Z
UID:10000025-1689984000-1690070399@wajimanavi.jp
SUMMARY:7月22日（土）浦上祭り（門前町）
DESCRIPTION:浦上地区には19集落があり、以前はそれぞれの集落の宮で祭りを行っていたが現在は八幡神社に合祀しました。神輿の屋根が六角面で作られているのは県下でも数えるくらいで、豪華で貴重な神輿。小旗、幟旗、吹流し、獅子、天狗がお供します。幟旗は高さ10メートルほどです。祭りの日が数年前から1日だけになり、7月第4土曜日に変更された。 \n \n八幡神社の境内には赤や白の旗や神社名旗が20本ほど並び、午後1時頃から拝殿で神事が始まり、境内では太鼓が打ち鳴らされる。神輿に神霊の降臨の儀のあと、巡行の安全を祈って、神輿担ぎや太鼓打ち、獅子舞をする者たちへの御祓をして、神輿が境内へ運び出されてすえられる。その前で笛、太鼓、鉦に合わせて、四組の獅子舞が順に行われる。獅子舞が終わると、神輿巡行が始まる。 \n  \n開催日：７月２２日（土）\n場　所：浦上八幡神社\n時　間：午後１時頃から
URL:https://wajimanavi.jp/event/urakami
LOCATION:0000000963_l
CATEGORIES:祭り
ATTACH;FMTTYPE=image/jpeg:https://wajimanavi.jp/wp-content/uploads/2022/06/P1100477-scaled-1.jpg
END:VEVENT
END:VCALENDAR