BEGIN:VCALENDAR
VERSION:2.0
PRODID:-//輪島たび結び｜能登輪島観光情報発信｜輪島市観光課・観光協会公式サイト - ECPv6.15.17//NONSGML v1.0//EN
CALSCALE:GREGORIAN
METHOD:PUBLISH
X-ORIGINAL-URL:https://wajimanavi.jp
X-WR-CALDESC:輪島たび結び｜能登輪島観光情報発信｜輪島市観光課・観光協会公式サイト のイベント
REFRESH-INTERVAL;VALUE=DURATION:PT1H
X-Robots-Tag:noindex
X-PUBLISHED-TTL:PT1H
BEGIN:VTIMEZONE
TZID:Asia/Tokyo
BEGIN:STANDARD
TZOFFSETFROM:+0900
TZOFFSETTO:+0900
TZNAME:JST
DTSTART:20220101T000000
END:STANDARD
END:VTIMEZONE
BEGIN:VEVENT
DTSTART;TZID=Asia/Tokyo:20230717T000000
DTEND;TZID=Asia/Tokyo:20230717T235959
DTSTAMP:20260425T013434
CREATED:20220616T010004Z
LAST-MODIFIED:20220616T010004Z
UID:10000020-1689552000-1689638399@wajimanavi.jp
SUMMARY:7月16日(日)【剱地八幡神社大祭】（門前町剱地）　
DESCRIPTION:7月16日(日)　剱地八幡神社大祭 \n神幸祭（しんこうさい）（神輿に乗った神様が、各家庭を回って幸福をもたらしてくださる意）ともいわれます。本祭りは、若者に担がれ町内を回り終わった神輿と、そのお供（キリコ、鉦・太鼓等）が午後10時頃に宮の前に帰ってきます。宮の前の乱舞から、神輿の屋根の上の鳳凰が抜かれて巡行が終わります。そして「獅子殺し」が宮の前で行われて祭りが終わります。 \n昔々、渡瀬地区のおさよという娘が、輪島の渡し船の船頭をしていた重蔵と恋仲となりました。彼が死んだと風の便りで知ったおさよは海に身を投げてしまいました。 \nおさよは同町の渡瀬の黒髪神社に、重蔵は輪島の重蔵神社に氏神として祀られており、年に一度愛し合った二人が再会するといわれるお祭りです。\n \n 
URL:https://wajimanavi.jp/event/turugidi
CATEGORIES:祭り
ATTACH;FMTTYPE=image/jpeg:https://wajimanavi.jp/wp-content/uploads/2022/06/tsurugiji-2.jpg
END:VEVENT
END:VCALENDAR