BEGIN:VCALENDAR
VERSION:2.0
PRODID:-//輪島たび結び｜能登輪島観光情報発信｜輪島市観光課・観光協会公式サイト - ECPv6.15.17//NONSGML v1.0//EN
CALSCALE:GREGORIAN
METHOD:PUBLISH
X-WR-CALNAME:輪島たび結び｜能登輪島観光情報発信｜輪島市観光課・観光協会公式サイト
X-ORIGINAL-URL:https://wajimanavi.jp
X-WR-CALDESC:輪島たび結び｜能登輪島観光情報発信｜輪島市観光課・観光協会公式サイト のイベント
REFRESH-INTERVAL;VALUE=DURATION:PT1H
X-Robots-Tag:noindex
X-PUBLISHED-TTL:PT1H
BEGIN:VTIMEZONE
TZID:Asia/Tokyo
BEGIN:STANDARD
TZOFFSETFROM:+0900
TZOFFSETTO:+0900
TZNAME:JST
DTSTART:20210101T000000
END:STANDARD
END:VTIMEZONE
BEGIN:VEVENT
DTSTART;TZID=Asia/Tokyo:20220529T090000
DTEND;TZID=Asia/Tokyo:20220605T203000
DTSTAMP:20260425T201237
CREATED:20220506T063538Z
LAST-MODIFIED:20220506T063538Z
UID:10000039-1653814800-1654461000@wajimanavi.jp
SUMMARY:わじま市民まつり 2022
DESCRIPTION:輪島市民まつりは輪島市民一人ひとりの地域愛と連帯感を醸成し、豊かで住みよく活力ある輪島市を育むことを目的に開催しています。\n輪島市民まつりの期間におこなわれる、輪島市民大花火大会では、20分間で20\,000発以上の打ち上げ花火が行われます。
URL:https://wajimanavi.jp/event/%e3%82%8f%e3%81%98%e3%81%be%e5%b8%82%e6%b0%91%e3%81%be%e3%81%a4%e3%82%8a-2022
CATEGORIES:祭り
ATTACH;FMTTYPE=image/jpeg:https://wajimanavi.jp/wp-content/uploads/2022/05/4e5c8b9accf847b6a99a37e9c309007f_page-0001.jpg
END:VEVENT
END:VCALENDAR