BEGIN:VCALENDAR
VERSION:2.0
PRODID:-//輪島たび結び｜能登輪島観光情報発信｜輪島市観光課・観光協会公式サイト - ECPv6.15.17//NONSGML v1.0//EN
CALSCALE:GREGORIAN
METHOD:PUBLISH
X-WR-CALNAME:輪島たび結び｜能登輪島観光情報発信｜輪島市観光課・観光協会公式サイト
X-ORIGINAL-URL:https://wajimanavi.jp
X-WR-CALDESC:輪島たび結び｜能登輪島観光情報発信｜輪島市観光課・観光協会公式サイト のイベント
REFRESH-INTERVAL;VALUE=DURATION:PT1H
X-Robots-Tag:noindex
X-PUBLISHED-TTL:PT1H
BEGIN:VTIMEZONE
TZID:Asia/Tokyo
BEGIN:STANDARD
TZOFFSETFROM:+0900
TZOFFSETTO:+0900
TZNAME:JST
DTSTART:20220101T000000
END:STANDARD
END:VTIMEZONE
BEGIN:VEVENT
DTSTART;TZID=Asia/Tokyo:20230810T000000
DTEND;TZID=Asia/Tokyo:20230811T235959
DTSTAMP:20260426T015400
CREATED:20180310T095200Z
LAST-MODIFIED:20180310T095200Z
UID:10000004-1691625600-1691798399@wajimanavi.jp
SUMMARY:8月10日・11日【皆月山王祭り】（門前町）
DESCRIPTION:奥能登の秘境と呼ばれる「皆月」の日吉神社で山王祭は開催されます。\n豊漁を祈願する漁師町の夏祭り。五色の吹流し、青竹、堤灯に彩られた曳山がゆっくりと町を練り歩きます。 \n由来伝承\n皆月はかつて比叡山延暦寺の荘園であった志津良庄の中心の集落であり、皆月日吉神社はその惣社で、江戸時代までは山王宮と称した。\n祭神は「寄り神様」とも言われ、伝承の一説に皆月の浜に小さな箱が一つ漂着し、その中の像が急に小童に化して、喜兵衛の家に３年働いて福をもたらし、その後、庄佐の家へ行って３年働いて、池の水で身を清めて、山王権現に化したと言う。この箱が漂着した政木家の家の横に安置してある岩を「神様石」と称し、升本家の池を「神様池」と言って、山王祭りにはこの二ヶ所で神輿が休んで神事が行われる。 \n宵祭り\n山車の巡行は、男達が白ワイシャツと白ズボンに巻脚半、白足袋に草鞋姿で、赤い三つ巴の白手拭いの鉢巻きをして神社に集まり、９時半ごろ山車が曳き出されて、境内を出発して、神社前の坂道を下り、西町を通って海岸道路へ出て午前の巡行が終わり、午後５時頃再び山車が曳き出される。 \n本祭り\n午後２時頃から山車を曳き始め、神輿も午後３時にお仮屋を出発する。 \n  \n開催日：８月１０日（木）・８月１１日（金）\n場　所：皆月日吉神社\n時　間：１０日　午後４時・１１日　午後２時
URL:https://wajimanavi.jp/event/%e5%b1%b1%e7%8e%8b%e7%a5%ad
CATEGORIES:祭り
ATTACH;FMTTYPE=image/jpeg:https://wajimanavi.jp/wp-content/uploads/2018/03/sanno.jpg
END:VEVENT
BEGIN:VEVENT
DTSTART;TZID=Asia/Tokyo:20230817T000000
DTEND;TZID=Asia/Tokyo:20230817T235959
DTSTAMP:20260426T015400
CREATED:20220711T010051Z
LAST-MODIFIED:20220711T010051Z
UID:10000042-1692230400-1692316799@wajimanavi.jp
SUMMARY:8月17日【曽々木大祭】町野町曽々木
DESCRIPTION:国の名勝・輪島町野町曽々木海岸一帯を舞台にした曽々木大祭が17日夜繰り広げられ、大小5基のキリコが勇壮に乱舞する。 \n・・由来・・\n当地に鎮座する春日神社の大祭で、往古、神様がアイノカゼに乗って曽々木海岸に漂着したという寄神伝承が伝わる。神社は神の漂着伝承地から100ｍほど南に直進した岩倉山の裾部に建ち、宵祭には窓岩ポケットパーク下の海辺に柱松明を立て、神輿が来臨すると柱松明を炎上させる。 \n春日神社近くの窓岩ポケットパークにキリコと神輿が集結し、青年団によるキリコは5間半(10ｍ)のものが1本と4間(7ｍ)のもの4本、合計5本が町を練り歩く。\n午後10時過ぎに松明が点火され、キリコが窓岩ポケットパークで乱舞する。\n花火も打ち上げられ、日本海の夜空に光の大輪を咲かせる。
URL:https://wajimanavi.jp/event/sosogitaisai
CATEGORIES:祭り
ATTACH;FMTTYPE=image/jpeg:https://wajimanavi.jp/wp-content/uploads/2018/03/0000002466_l.jpg
END:VEVENT
BEGIN:VEVENT
DTSTART;TZID=Asia/Tokyo:20230817T000000
DTEND;TZID=Asia/Tokyo:20230818T235959
DTSTAMP:20260426T015400
CREATED:20220713T010056Z
LAST-MODIFIED:20260115T094337Z
UID:10000041-1692230400-1692403199@wajimanavi.jp
SUMMARY:8月17日（木）･18日（金） 黒島天領祭(若宮八幡神社)
DESCRIPTION:市指定民俗文化財\n\n天領祭は、8月17日・18日の両日に行われ、大阪城と名古屋城をかたどった曳山が、勇ましい声とともに街を駆け回る。武者人形やのぼり旗が飾りつけられた2基の曳山は、総輪島塗金箔仕上げの豪華なもの。\n子供の奴振り行列も見ものです。（奴振り行列は両日行われる）\n17日　15:30神社スタート\n18日　14:30\n\n祭礼初日\n17日午前10時に北町曳山は、資料館を出発し神社前へ、南町曳山は、午後２時資料館を出発し、神社前で北町曳山と相並び、午後2時30分から若宮八幡神社で祭典が行われ、御立ちになる。\n\n二日目\n１８日午前９時から御仮屋で祭典が行われる。南町曳山が前山となって、朝山と称し９時３０分に資料館前を出発し、後山として、北町曳山が１０時に出発し、１１時半頃２台の曳山が南端で勢揃いし、午後２時３０分に御立ちになる。\n\n \n\n開催日：８月１７日（木）・８月１８日（金）\n場　所：若宮八幡神社\n\n 
URL:https://wajimanavi.jp/event/kuroshima
LOCATION:松原山正願寺(しょうがんじ)
CATEGORIES:祭り
ATTACH;FMTTYPE=image/jpeg:https://wajimanavi.jp/wp-content/uploads/2018/03/0000000078_l.jpg
END:VEVENT
BEGIN:VEVENT
DTSTART;TZID=Asia/Tokyo:20230819T000000
DTEND;TZID=Asia/Tokyo:20230819T235959
DTSTAMP:20260426T015400
CREATED:20220720T010015Z
LAST-MODIFIED:20220720T010015Z
UID:10000043-1692403200-1692489599@wajimanavi.jp
SUMMARY:8月19日（土）お小夜まつり　門前町　七浦公民館グランド
DESCRIPTION:「能登麦屋節」は輪島を中心とした素麺作りで、小麦挽きの作業唄として、室町時代末期より唄われていた古い民謡です。寛文5年（1665）門前町暮坂（旧七浦村）に生まれた「お小夜」が輪島麦屋に奉公、七浦の里を望郷の念で唄い伝えたもので、後に越中五箇山で、「麦屋節」や「踊り」を広めたと伝えられています。 \nお小夜を偲んで、能登麦屋節や踊りなどのステージが繰り広げられます。 \n  \n開催日：８月19日（土）\n時　間：午後６時頃から\n場　所：七浦公民館グランド\n※雨天時、七浦公民館体育館
URL:https://wajimanavi.jp/event/%e3%81%8a%e5%b0%8f%e5%a4%9c%e3%81%be%e3%81%a4%e3%82%8a
LOCATION:正楽寺(しょうらくじ)
CATEGORIES:祭り
ATTACH;FMTTYPE=image/jpeg:https://wajimanavi.jp/wp-content/uploads/2018/03/0000000065_l.jpg
END:VEVENT
BEGIN:VEVENT
DTSTART;TZID=Asia/Tokyo:20250822T000000
DTEND;TZID=Asia/Tokyo:20250825T235959
DTSTAMP:20260426T015400
CREATED:20220811T030141Z
LAST-MODIFIED:20260116T055902Z
UID:10000048-1755820800-1756166399@wajimanavi.jp
SUMMARY:8月22日（火）～25日（金） 輪島大祭　輪島が燃える怒涛の４日間！
DESCRIPTION:輪島が燃える怒涛の４日間！輪島大祭！祝・日本遺産認定！能登のキリコ祭りが日本遺産に登録されました！その伝統がたっぷりつまった能登独特の祭りたちを、ぜひ現地で見てください！ \n\n\n\n\n\n\n\n\n\n※みどころの時間帯はあくまで目安ですので時間が前後する場合があります。 \n\n\n\n●8月22日 奥津比咩神社大祭 (海士町) TEL:0768-22-4657 \n\n\n\nみどころ　　　　時間帯・御神輿入水神事　18:00・キリコ巡行　　　19:00・キリコ集合　　　22:30・御仮屋夜宮祭　　23:00→入水神事はその名のとおり神輿を担いで海につかります。この日最大のみどころ！※御神輿の入水神事は23日の同時刻にも執り行われます。 \n\n\n\n●8月23日 重蔵神社大祭 (河井町) TEL:0768-22-0695 \n\n\n\nみどころ　　　　　　　　時間帯・御仮屋九字切縄ぬい神事　15:00・神人の松明起こし　　　　17:00・神社本庁献幣式　　　　　20:00・御神輿渡御祭　　　　　　21:00・松明神事　　　　　　　　22:00・御仮屋到着　　　　　　　23:00→キリコの本数が一番多いのがこの日！勢ぞろいすると迫力満点！ \n\n\n\n●8月24日 住吉神社大祭 (鳳至町) TEL:0768-22-0656 \n\n\n\nみどころ　　　　時間帯・神社本庁献幣式　19:00・御神輿渡御祭　　20:00・三角州松明神事　22:30・御仮屋到着　　　 0:00→御神事太鼓あり。 \n\n\n\n●8月25日　輪島前神社大祭<(輪島崎町) TEL:0768-22-0871 \n\n\n\nみどころ　　　　　　時間帯・神社本庁献幣式　　　20:30・御神輿渡御祭　　　　21:00・お祭り広場松明神事　22:00・御仮屋到着　　　　　23:00→神輿、キリコはもちろん、この日の松明は特別仕様！爆竹や花火入りで興奮しっぱなし！ \n\n\n\n各神社とも当日の昼間には、各種お祓い神事や松明おこし神事などがあります。また、翌日の本祭りには御神輿渡御の神事があります。 \n\n\n\n～キリコ祭りについて～【キリコ祭りのいわれ】昔、舳倉島に鎮座した女神と輪島市内の男神が、松明を目印に年に一度お会いするロマンあふれるお祭りです。お供する人々は、この日にすべての厄を払い落とし、新しい神様が誕生する生命力を授かります。 \n\n\n\n【キリコ奉燈】キリコとは、炎暑において厄払いや豊作豊漁に感謝して、御神輿にお供する縦型長方形の大きな御神燈のことで、能登一円の夏祭りや秋祭りに氏子衆によって担がれる祭礼具です。 \n\n\n\n【松明神事】松明に火がつけられ、厄年（数え年で42歳）にあたる「お当組」が火の粉を浴びながら神輿を担いでその下を渡御する。松明の高さはおよそ12メートルほどあり、その1番上に付けられている3本の竹には、神様のお祓いを受けた御幣がついている。松明が倒れると若者たちが一斉に御幣を奪い合いする。その光景は迫力満点！！ \n\n\n\n【御神輿入水神事】顔に紅を塗り、赤や青のカラフルな腰巻姿の若衆に担がれた神輿が、午後6時頃に海中乱舞を繰り広げる。これは、海士町の女神が年に一度、輪島の男神に会いに来たという伝説にちなんだもの。
URL:https://wajimanavi.jp/event/wajimataisai
LOCATION:時国家(上時国家)
CATEGORIES:祭り
ATTACH;FMTTYPE=image/jpeg:https://wajimanavi.jp/wp-content/uploads/2018/03/D52_1248_0001.jpg
END:VEVENT
END:VCALENDAR