BEGIN:VCALENDAR
VERSION:2.0
PRODID:-//輪島たび結び｜能登輪島観光情報発信｜輪島市観光課・観光協会公式サイト - ECPv6.15.17//NONSGML v1.0//EN
CALSCALE:GREGORIAN
METHOD:PUBLISH
X-WR-CALNAME:輪島たび結び｜能登輪島観光情報発信｜輪島市観光課・観光協会公式サイト
X-ORIGINAL-URL:https://wajimanavi.jp
X-WR-CALDESC:輪島たび結び｜能登輪島観光情報発信｜輪島市観光課・観光協会公式サイト のイベント
REFRESH-INTERVAL;VALUE=DURATION:PT1H
X-Robots-Tag:noindex
X-PUBLISHED-TTL:PT1H
BEGIN:VTIMEZONE
TZID:Asia/Tokyo
BEGIN:STANDARD
TZOFFSETFROM:+0900
TZOFFSETTO:+0900
TZNAME:JST
DTSTART:20200101T000000
END:STANDARD
END:VTIMEZONE
BEGIN:VEVENT
DTSTART;TZID=Asia/Tokyo:20230503T000000
DTEND;TZID=Asia/Tokyo:20230503T235959
DTSTAMP:20260423T065518
CREATED:20230417T000002Z
LAST-MODIFIED:20230417T000002Z
UID:10000063-1683072000-1683158399@wajimanavi.jp
SUMMARY:大幡郷社祭 2023
DESCRIPTION:2023年度の「大幡郷社祭」は、神事のみ、神輿・獅子舞はありません。\n※神事は見学可能。 \n昔のことですが、猿鬼という怪物がいて、山から下りてきては村人たちに被害を与えていました。この猿鬼を大幡山の神様が退治して、その場所に社を建てたのが始まりです。 \n午後2時頃より各地区（本江、渡合、仁行、中、興徳寺、長沢、小泉、打越、熊野）の神輿がくりだし、午後3時頃より大幡神社に集合し、境内で小泉の獅子舞が猿鬼退治の様子を舞う。
URL:https://wajimanavi.jp/event/%e5%a4%a7%e5%b9%a1%e9%83%b7%e7%a4%be%e7%a5%ad
CATEGORIES:祭り
ATTACH;FMTTYPE=image/jpeg:https://wajimanavi.jp/wp-content/uploads/2018/03/0000000071_l.jpg
END:VEVENT
BEGIN:VEVENT
DTSTART;TZID=Asia/Tokyo:20230404T000000
DTEND;TZID=Asia/Tokyo:20230406T235959
DTSTAMP:20260423T065518
CREATED:20230222T000012Z
LAST-MODIFIED:20230222T000012Z
UID:10000060-1680566400-1680825599@wajimanavi.jp
SUMMARY:曳山祭 2023年　※一部行事を縮小して開催
DESCRIPTION:【曳山祭り】\nこの祭りを運営するのは、鳳至町と河井町の厄年（数え42歳）の男達です。\n曳山の先頭を曳くのは子どもたち！厄男と趣向を凝らした人形がこの山車に乗り込み街を練り歩いていきます。\n各神社ごとに様々なイベントも行われますのでこの期間輪島へ来られることがありましたらぜひ一度ご覧ください。\n【毎年のスケジュール】\n〇住吉神社(一部行事縮小)\n4月4日(宵宮祭)\n4月5日(本祭)  曳山巡業 14:00~\n※神事のみ行い、曳山の巡業はありません。 \n〇重蔵神社(通年通り)\n4月5日(宵宮祭)\n4月6日(本祭) 曳山巡業 8:20～16:00\n※一部行事の内容が変更する可能性があります。 \n4月4日から6日に、総輪島塗の華麗な高さ5ｍの山車が輪島の街を練り歩きます。\n輪島の人が「春がきたな～」と感じるお祭りとなっています。
URL:https://wajimanavi.jp/event/%e6%9b%b3%e5%b1%b1%e7%a5%ad
CATEGORIES:祭り
ATTACH;FMTTYPE=image/jpeg:https://wajimanavi.jp/wp-content/uploads/2018/02/0000002210_l.jpg
END:VEVENT
BEGIN:VEVENT
DTSTART;TZID=Asia/Tokyo:20220718T000000
DTEND;TZID=Asia/Tokyo:20220719T235959
DTSTAMP:20260423T065518
CREATED:20220622T010301Z
LAST-MODIFIED:20220622T010301Z
UID:10000022-1658102400-1658275199@wajimanavi.jp
SUMMARY:2022年 門前まつり（ごうらい祭り）※一部行事を縮小して開催いたします。
DESCRIPTION:2022年の「門前まつり(ごうらい祭り)」は開催されますが、一部行事を縮小して開催いたします。 \n曹洞宗大本山總持寺祖院の守護神がかつて櫛比神社だった名残で，同神社の神様が年に一度同祖院の仏様にご機嫌伺いに参上したのが由来です。猿面をつけた「ごうらい」がこん棒を持ち、露払いをつとめます。無病息災を願う祭りで、「葬式祭り」「ごうらい祭り」の異名をもっています。
URL:https://wajimanavi.jp/event/monzenmaturi
LOCATION:剱地権現岩(トトロ岩)
CATEGORIES:祭り
ATTACH;FMTTYPE=image/jpeg:https://wajimanavi.jp/wp-content/uploads/2022/06/IMG_1847-scaled-1.jpg
END:VEVENT
BEGIN:VEVENT
DTSTART;TZID=Asia/Tokyo:20220717T163000
DTEND;TZID=Asia/Tokyo:20220717T190000
DTSTAMP:20260423T065518
CREATED:20220618T010010Z
LAST-MODIFIED:20220618T010010Z
UID:10000021-1658075400-1658084400@wajimanavi.jp
SUMMARY:2022年 観音まつり【例年通り開催】
DESCRIPTION:2022年の「 観音まつり」は、例年通り開催されます。 \n總持寺祖院の慈雲閣で行われます。 \nおよそ700年の歴史がある慈雲閣は總持寺最古の建物。普段は扉が閉まっており、中の様子を伺うことはできません。 \n観音祭りのこの日、観音山の山開きを行い、観音堂の扉を開いて供養が行われます。 \n  \n \n 
URL:https://wajimanavi.jp/event/%e8%a6%b3%e9%9f%b3%e3%81%be%e3%81%a4%e3%82%8a
LOCATION:剱地権現岩(トトロ岩)
CATEGORIES:祭り
ATTACH;FMTTYPE=image/jpeg:https://wajimanavi.jp/wp-content/uploads/2022/06/DSCF0432.jpg
END:VEVENT
BEGIN:VEVENT
DTSTART;TZID=Asia/Tokyo:20220529T090000
DTEND;TZID=Asia/Tokyo:20220605T203000
DTSTAMP:20260423T065518
CREATED:20220506T063538Z
LAST-MODIFIED:20220506T063538Z
UID:10000039-1653814800-1654461000@wajimanavi.jp
SUMMARY:わじま市民まつり 2022
DESCRIPTION:輪島市民まつりは輪島市民一人ひとりの地域愛と連帯感を醸成し、豊かで住みよく活力ある輪島市を育むことを目的に開催しています。\n輪島市民まつりの期間におこなわれる、輪島市民大花火大会では、20分間で20\,000発以上の打ち上げ花火が行われます。
URL:https://wajimanavi.jp/event/%e3%82%8f%e3%81%98%e3%81%be%e5%b8%82%e6%b0%91%e3%81%be%e3%81%a4%e3%82%8a-2022
CATEGORIES:祭り
ATTACH;FMTTYPE=image/jpeg:https://wajimanavi.jp/wp-content/uploads/2022/05/4e5c8b9accf847b6a99a37e9c309007f_page-0001.jpg
END:VEVENT
BEGIN:VEVENT
DTSTART;TZID=Asia/Tokyo:20210605T000000
DTEND;TZID=Asia/Tokyo:20210605T235959
DTSTAMP:20260423T065518
CREATED:20190310T085433Z
LAST-MODIFIED:20190310T085433Z
UID:10000003-1622851200-1622937599@wajimanavi.jp
SUMMARY:輪島市民まつり 2021【一部中止・延期】
DESCRIPTION:「輪島市民まつり2021」は新型コロナウイルス感染症の拡大防止のため、内容の一部中止・変更及び延期になります。\n「輪島市民大花火大会」の開催につきましては延期が決定いたしました。 \n詳細は公式サイトをご確認ください。 \n＝＝＝＝＝＝＝＝＝＝＝＝＝＝＝＝＝＝＝＝＝＝＝＝＝＝＝＝＝＝＝＝＝＝＝＝＝＝＝＝＝＝＝＝ \n【中止となる主要イベント】 \n5月30日（日）　第33回能登麦屋節全国大会 \n6月 5日（土）　マリンタウン会場\n　　　　　　　　（食まつり・緊急特殊車両展示・自衛隊車両展示・自衛隊航空機フライバイ\n　　　　　　　　　倭の島交流大パレード・子ども笹ギリコ行列・輪島オートモビルミーティング\n　　　　　　　　　御陣乗太鼓実演　など） \n6月 6日（日）　總持寺会場\n　　　　　　　　（食まつり・禅の里パレード　など） \n＝＝＝＝＝＝＝＝＝＝＝＝＝＝＝＝＝＝＝＝＝＝＝＝＝＝＝＝＝＝＝＝＝＝＝＝＝＝＝＝＝＝＝＝＝ \n【延期となる主要イベント】 \n6月5日（土）　 マリンタウン会場\n　　　　　　　  （倭の島子どもステージ・石川県太鼓連盟奥能登支部太鼓演奏\n　　　　　　　　  マーチングドリル演奏他・ステージイベントなど）\n　　　　　　　  輪島市民大花火大会 \n6月6日（日）　總持寺会場\n　　　　　　    　（禅の里ステージ・マーチングドリル演奏他など）\n　　　　　　　輪島市民まつり演奏会 \n＝＝＝＝＝＝＝＝＝＝＝＝＝＝＝＝＝＝＝＝＝＝＝＝＝＝＝＝＝＝＝＝＝＝＝＝＝＝＝＝＝＝＝＝＝ \n\n\n\n\n\n\n\n\n輪島の夏を告げるお祭り！輪島市民まつり！！\n\n	5月30日（日）　能登麦屋節全国大会：輪島市文化会館大ホール【中止】\n6月  5日（土）　輪島市民まつり　マリンタウン会場【一部中止・延期】\n6月  6日（日）　輪島市民まつり　總持寺会場　　　【一部中止・延期】　\n\n\n\n\n\n輪島市民まつり2021　マリンタウン会場　2021年6月5日（土） \n\n\n\n\n\n\n\n\n\n\n▷食まつり【中止】\n時　間：10:00〜22:00\n会　場：マリンタウン大型テント \n▷倭の島子どもステージ【延期】\n時　間：10:10〜12:00\n会　場：マリンタウン特設ステージ \n▷緊急・特殊車輌展示【中止】\n時　間：10:10〜15:00\n会　場：マリンタウン本部横駐車場 \n▷自衛隊車輌展示【中止】\n時　間：10:10〜15:00\n会　場：マリンタウン本部横駐車場 \n▷にっぽん丸寄港【中止】\n時　間：9:00〜\n会　場：マリンタウン岸壁 \n▷自衛隊フライバイ（戦闘機、ヘリ）【中止】\n時　間：12:00〜12:30\n会　場：マリンタウン上空 \n▷輪島オートモビルミーティング【中止】\n時　間：12:00〜16:00\n会　場：キリコ会館横駐車場 \n▷石川県太鼓連盟　奥能登支部【延期】\n時　間：12:30〜12:40\n会　場：マリンタウン特設ステージ \n\n\n\n\n\n\n\n\n▷マーチングドリル演奏【延期】\n時　間：13:00〜14:00\n会　場：マリンタウン \n▷倭の島交流大パレード【中止】\n時　間：14:00〜16:00\n会　場：マリンタウン～市街地～ふらっと訪夢 \n▷昼の部ステージイベント【延期】\n時　間：15:30〜17:50\n会　場：マリンタウン特設ステージ \n▷夜の部ステージイベント【中止】\n時　間：19:00〜19:50\n会　場：マリンタウン特設ステージ \n▷子ども笹ギリコ行列【中止】\n時　間：19:00〜20:05\n会　場：三角州または市役所 駐車場～マリンタウン \n▷夜の部　開会の挨拶【中止】\n時　間：19:50〜20:00\n会　場：マリンタウン特設ステージ \n▷御陣乗太鼓実演【中止】\n時　間：20:00〜20:20\n会　場：マリンタウン特設ステージ \n▷輪島市民大花火大会【延期】\n時　間：20:40〜21:00\n会　場：マリンタウン \n\n\n\n\n\n\n\n\n\n\n主　　催： \n輪島市民まつり振興会\n輪島市・輪島商工会議所\nTEL：0768-22-7777\nFAX：0768-22-7707 \n\n\n\n\n\n\n\n\n	マリンタウン会場\n（輪島商工会議所内）\nTEL：0768-22-7777\nFAX：0768-22-7707\nE-mail：1960wajimacci@gmail.com\n\n\n\n\n\n\n\n\n總持寺会場\n（輪島市門前総合支所地域振興課内）\nTEL：0768-42-1111\nFAX：0768-42-0594\nE-mail：shinkou@city.wajima.lg.jp
URL:https://wajimanavi.jp/event/wajimashiminmatsuri
LOCATION:0000001814_l
CATEGORIES:イベント,祭り
ATTACH;FMTTYPE=image/jpeg:https://wajimanavi.jp/wp-content/uploads/2019/03/simin.jpg
END:VEVENT
END:VCALENDAR