BEGIN:VCALENDAR
VERSION:2.0
PRODID:-//輪島たび結び｜能登輪島観光情報発信｜輪島市観光課・観光協会公式サイト - ECPv6.15.17//NONSGML v1.0//EN
CALSCALE:GREGORIAN
METHOD:PUBLISH
X-ORIGINAL-URL:https://wajimanavi.jp
X-WR-CALDESC:輪島たび結び｜能登輪島観光情報発信｜輪島市観光課・観光協会公式サイト のイベント
REFRESH-INTERVAL;VALUE=DURATION:PT1H
X-Robots-Tag:noindex
X-PUBLISHED-TTL:PT1H
BEGIN:VTIMEZONE
TZID:Asia/Tokyo
BEGIN:STANDARD
TZOFFSETFROM:+0900
TZOFFSETTO:+0900
TZNAME:JST
DTSTART:20220101T000000
END:STANDARD
END:VTIMEZONE
BEGIN:VEVENT
DTSTART;TZID=Asia/Tokyo:20230304T000000
DTEND;TZID=Asia/Tokyo:20230507T235959
DTSTAMP:20260425T011223
CREATED:20230303T052240Z
LAST-MODIFIED:20230303T052240Z
UID:10000076-1677888000-1683503999@wajimanavi.jp
SUMMARY:第28回 飛翔する輪島の漆芸作家たち ―全国展入選作品―
DESCRIPTION:漆の里・輪島では、漆芸美術の一大拠点として伝統と技術が脈々と受け継がれています。\n全国公募の展覧会における、先人たちの功績の数々はその基盤を築き上げました。\n日展や日本伝統工芸展をはじめとする公募展にはなおも多くの作家が挑み、自らの創造の理念を世に問い続けています。\n重鎮から新進まで、真剣勝負が繰り広げられる大舞台で、輪島の作家たちはひときわ強い存在感を放っています。\n本展覧会では、輪島在住作家による令和３年度の全国公募展への入選作品を一堂に展示します。\n会派を越えて多様に展開する美と卓越した技をご覧ください。 \n会期：2023年3月4日(土)～5月7日(日)＊会期中無休\n開 館 時 間：午前9時～午後5時(入館は閉館の30分前まで)\n主催・会場：石川県輪島漆芸美術館\n共催：日展輪島会・輪島工芸会\n後援：石川県・輪島市・輪島漆器商工業協同組合\n入館料：一般：630円（520円）\n高大学生：320円（210円）\n小中学生：150円（100円）\n※(　)内は20人以上の団体料金 \n○同時開催\n「輪島塗の技と歴史」展示室４ \n○出品作家の作品販売\n会期中、出品作家の作品をミュージアムショップで特別販売いたします。お気軽にお立ち寄りください。
URL:https://wajimanavi.jp/event/%e3%80%90%e7%ac%ac28%e5%9b%9e-%e9%a3%9b%e7%bf%94%e3%81%99%e3%82%8b%e8%bc%aa%e5%b3%b6%e3%81%ae%e6%bc%86%e8%8a%b8%e4%bd%9c%e5%ae%b6%e3%81%9f%e3%81%a1%e2%80%95%e5%85%a8%e5%9b%bd%e5%b1%95%e5%85%a5
CATEGORIES:イベント
ATTACH;FMTTYPE=image/jpeg:https://wajimanavi.jp/wp-content/uploads/2023/03/28sakka_page-0001.jpg
END:VEVENT
BEGIN:VEVENT
DTSTART;TZID=Asia/Tokyo:20230401T080000
DTEND;TZID=Asia/Tokyo:20231001T170000
DTSTAMP:20260425T011223
CREATED:20230404T011826Z
LAST-MODIFIED:20230404T011826Z
UID:10000077-1680336000-1696179600@wajimanavi.jp
SUMMARY:【ソラハナ】能登總持寺×アンブレラスカイ​　10月1日(日)まで
DESCRIPTION:神と仏が共有する聖地　差し込む光が創る六色の路、空を舞う傘が總持寺祖院に太陽の光で彩られた道を創る。​\n能登總持寺×アンブレラスカイ​を開催！ \n【日時】4月1日(土)～10月1日(日) 8:00～17:00(總持寺祖院拝観時間に準ずる)\n【場所】大本山總持寺祖院\n※ソライロ開催場所は總持寺祖院境内になりますので、ご覧頂くには總持寺祖院拝観料が必要。\n【拝観料】\n・大人:500円\n・高校生・中学生:400円\n・小学生:200円
URL:https://wajimanavi.jp/event/sorahana%e9%96%8b%e5%82%ac
CATEGORIES:イベント
ATTACH;FMTTYPE=image/jpeg:https://wajimanavi.jp/wp-content/uploads/2023/04/88aaa7be5f4bea14c954bb22d19e2d1d.jpg
END:VEVENT
BEGIN:VEVENT
DTSTART;TZID=Asia/Tokyo:20230415T000000
DTEND;TZID=Asia/Tokyo:20230512T235959
DTSTAMP:20260425T011223
CREATED:20230415T000055Z
LAST-MODIFIED:20230415T000055Z
UID:10000079-1681516800-1683935999@wajimanavi.jp
SUMMARY:のとキリシマオープンガーデン 2023
DESCRIPTION:能登の春を彩る花、のとキリシマツツジ。\n開花時期の4月中旬〜5月中旬には、奥能登のあちこちで燃えるような深紅の花が咲き誇ります。 \nきれいに咲いた花をたくさんの方に見ていただきたく、今年も個人のお庭などを公開するオープンガーデンを開催します。 \nまた、今年もオープンガーデンのお宅に置いてあるスタンプを集めて応募すると、のとキリオリジナルグッズが当たるスタンプラリーを実施します！ スタンプ台紙は奥能登の道の駅などで配布しています。ぜひご参加ください。 \n公開期間：2023年4月中旬〜5月中旬頃（各庭の花の咲き始めから咲き終わるまで）\n場所：奥能登地域の個人・施設のお庭 62か所
URL:https://wajimanavi.jp/event/%e3%81%ae%e3%81%a8%e3%82%ad%e3%83%aa%e3%82%b7%e3%82%aa%e3%83%bc%e3%83%97%e3%83%b3%e3%82%ac%e3%83%bc%e3%83%87%e3%83%b3-2023
CATEGORIES:イベント
ATTACH;FMTTYPE=image/jpeg:https://wajimanavi.jp/wp-content/uploads/2023/04/EPSON126.1.jpg
END:VEVENT
BEGIN:VEVENT
DTSTART;TZID=Asia/Tokyo:20230429T203000
DTEND;TZID=Asia/Tokyo:20231009T205000
DTSTAMP:20260425T011223
CREATED:20230217T000016Z
LAST-MODIFIED:20230217T000016Z
UID:10000067-1682800200-1696884600@wajimanavi.jp
SUMMARY:【御陣乗太鼓無料実演】 　10月9日（月・祝）まで　　
DESCRIPTION:2023年御陣乗太鼓無料実演\n【時間】20時30分～20時50分\n【場所】輪島市マリンタウン6-1　輪島キリコ会館もてなし広場\n【問合せ先】輪島キリコ会館　TEL 0768-22-7100\n \n\n\n\n御陣乗太鼓公式サイト
URL:https://wajimanavi.jp/event/gojinjitsuen
CATEGORIES:イベント
ATTACH;FMTTYPE=image/jpeg:https://wajimanavi.jp/wp-content/uploads/2020/03/20190427.jpg
END:VEVENT
BEGIN:VEVENT
DTSTART;TZID=Asia/Tokyo:20230503T090000
DTEND;TZID=Asia/Tokyo:20230505T170000
DTSTAMP:20260425T011223
CREATED:20230422T061635Z
LAST-MODIFIED:20230422T061635Z
UID:10000088-1683104400-1683306000@wajimanavi.jp
SUMMARY:輪ふれて感じる うるしの温もり企画
DESCRIPTION:〇体験（要体験料）\n「沈金」「蒔絵」パネルの製作体験ができます。\nお一人様4\,000円（約1時間） \n〇輪島塗の販売・相談\n・職人さんとお話ししながら、商品をお選びいただけます。お手入れの仕方などご相談ください。 \n〇実演（観覧無料）\n輪島が誇る「沈金」や「蒔絵」の製作の様子を間近にご覧いただけます。
URL:https://wajimanavi.jp/event/%e8%bc%aa%e3%81%b5%e3%82%8c%e3%81%a6%e6%84%9f%e3%81%98%e3%82%8b-%e3%81%86%e3%82%8b%e3%81%97%e3%81%ae%e6%b8%a9%e3%82%82%e3%82%8a%e4%bc%81%e7%94%bb
CATEGORIES:イベント
ATTACH;FMTTYPE=image/jpeg:https://wajimanavi.jp/wp-content/uploads/2023/04/2023nukumori_page-0001-2.jpg
END:VEVENT
BEGIN:VEVENT
DTSTART;TZID=Asia/Tokyo:20230503T100000
DTEND;TZID=Asia/Tokyo:20230505T160000
DTSTAMP:20260425T011223
CREATED:20230422T015804Z
LAST-MODIFIED:20230422T015804Z
UID:10000087-1683108000-1683302400@wajimanavi.jp
SUMMARY:のと里山空港ゴールデンウィークイベント(のとキリシマツツジフェスティバル)
DESCRIPTION:【のとキリシマツツジフェスティバル】\n開催日：令和5年5月3日(水・祝)～令和5年5月5日(金・祝）\n時間：10時～16時（最終日は15時まで）\n場所：のと里山空港多目的広場(芝生広場) \n〇まいもん市\n5月3日(水・祝)～5日(金・祝)10:00～15:00\n〇のっぴーフリマ＆クラフトマーケット\n5月3日(水・祝)～5日(金・祝)10:00～15:00 \n〇原木しいたけ植菌体験と原木販売\n5月4日(木・祝)10:00～15:00 \n〇のとキリシマツツジ盆栽展示\n推定樹齢350年!日本一大きいのとキリシマツツジ盆栽が今年ものと里山空港にやってくる！！\n愛好家自慢の盆栽20鉢展示 \n〇のとキリシマツツジ植え方講習（時間帯は目安のため若干前後する場合があります）\nのとキリシマツツジの植え方を愛好家から習って、ご自宅でものとキリシマツツジを楽しみましょう\n5月3日(水)～5日(金) 12：30 \n〇ステージイベント（時間帯は目安ですので若干前後する場合があります）\n5月5日(金) はこどもの日！\n迫力の太鼓演奏やダンスパフォーマンス披露をぜひご覧ください。\n【太鼓演奏】\n11:00/13:00 輪島祭り太鼓\n11:15/13:15 輪島高洲太鼓\n11:30/13:30 輪島・和太鼓虎之介\n11:45/13:45 今井昴 \n【ダンスパフォーマンス】\n12:15/14:15羽咋Jr.ダンス教室＆pop star☆はくい
URL:https://wajimanavi.jp/event/5%e6%9c%883%e6%97%a5%e6%b0%b4%ef%bd%9e5%e6%9c%885%e6%97%a5%e9%87%91-%e3%81%ae%e3%81%a8%e9%87%8c%e5%b1%b1%e7%a9%ba%e6%b8%af%e3%82%b4%e3%83%bc%e3%83%ab%e3%83%87%e3%83%b3%e3%82%a6%e3%82%a3%e3%83%bc
CATEGORIES:イベント
ATTACH;FMTTYPE=image/jpeg:https://wajimanavi.jp/wp-content/uploads/2023/04/4267c828032e63ebbe6d4f7d15ba5f77.jpg
END:VEVENT
BEGIN:VEVENT
DTSTART;TZID=Asia/Tokyo:20230507T103000
DTEND;TZID=Asia/Tokyo:20230507T123000
DTSTAMP:20260425T011223
CREATED:20230326T000038Z
LAST-MODIFIED:20230326T000038Z
UID:10000064-1683455400-1683462600@wajimanavi.jp
SUMMARY:白米千枚田　田植えイベント
DESCRIPTION:5/5(金)に能登半島沖で震度６強の地震が発生し、輪島市でも震度5弱を観測しました。 \n輪島市内では5/6(土)9:00現在、被害は確認されておりませんので、5/7(日)の白米千枚田の田植えは予定どおり実施いたします。 \nもし変更があれば、白米千枚田のHPでご案内いたします。 \n【白米千枚田 田植えイベント】 \n白米千枚田では５月7日（日）に田植えイベントを行います。\n大勢のオーナー会員の方々やボランティアの方々が参加する千枚田の一大イベントとなっております。 \n＝＝＝＝＝＝＝白米千枚田　田植えイベント＝＝＝＝＝＝＝\n受付開始：10:30～　　終了予定：12:30\n＝＝＝＝＝＝＝＝＝＝＝＝＝＝＝＝＝＝＝＝＝＝＝＝＝＝＝\n※雨天中止 \n【無料シャトルバス】\n田植え当日は、千枚田周辺が大変混雑しますので無料シャトルバスをご利用下さい。\n・名舟漁港⇔千枚田 9:00～13:30(随時運航しています。) \n【田植え参加の方（ボランティア＆千枚田オーナー）用シャトルバス】\n・マリンタウン発(千枚田行) 8:45 、9:00、9:45、10:00\n・千枚田発(マリンタウン行) 12:30、12:50、13:15、13:45 \n \n 
URL:https://wajimanavi.jp/event/%e5%8d%83%e6%9e%9a%e7%94%b0%e3%80%80%e7%94%b0%e6%a4%8d%e3%81%88
LOCATION:Calendar Views (イベント Archive)
CATEGORIES:イベント,千枚田
ATTACH;FMTTYPE=image/jpeg:https://wajimanavi.jp/wp-content/uploads/2023/03/064d284254978508bc859085225a227b.jpg
END:VEVENT
BEGIN:VEVENT
DTSTART;TZID=Asia/Tokyo:20230513T000000
DTEND;TZID=Asia/Tokyo:20230514T235959
DTSTAMP:20260425T011223
CREATED:20230419T000024Z
LAST-MODIFIED:20230419T000024Z
UID:10000078-1683936000-1684108799@wajimanavi.jp
SUMMARY:皐月まつり 2023
DESCRIPTION:輪島市門前町總持寺通りで「皐月まつり」が、２日間開催されます。\n13日(土)は「ステージイベント」14日(日)は「花まつり・稚児行列」\nその他、様々な催しや食ブースが出店します。​ \n【同時開催】\nミス・ワールド・ジャパン石川プレゼンツ\n「總持寺ナイトショー」\n13日(土)19時より總持寺祖院山門にて、ミス・ワールド・ジャパン石川プレゼンツによる歌や加賀友禅着物ショーなどが開催。 \n\n\n最後には、總持寺山門にプロジェクションマッピング行われます。。 \n\n日時：令和5年5月13日(土)・14日(日)  10時～14時\n会場：輪島市門前町總持寺通り
URL:https://wajimanavi.jp/event/%e7%9a%90%e6%9c%88%e3%81%be%e3%81%a4%e3%82%8a-2023
CATEGORIES:イベント,祭り
ATTACH;FMTTYPE=image/jpeg:https://wajimanavi.jp/wp-content/uploads/2023/04/e02bf3ee9a5cdd31b6070a85482dc1f7.jpeg
END:VEVENT
BEGIN:VEVENT
DTSTART;TZID=Asia/Tokyo:20230520T000000
DTEND;TZID=Asia/Tokyo:20230528T235959
DTSTAMP:20260425T011223
CREATED:20230222T000048Z
LAST-MODIFIED:20230222T000048Z
UID:10000071-1684540800-1685318399@wajimanavi.jp
SUMMARY:SSTR 2023
DESCRIPTION:令年5月20日(土)〜5月2日8(日)の9日間「SSTR2023」が開催されます。 \nSSTRは、世界的なオートバイ冒険家・風間深志さんが発案したオートバイによる独創的なツーリングイベントで、基本ルールは、日の出とともに自身で定めた日本列島の東海岸からスタートし、日没までに日本海の千里浜にゴールするイベントになります。
URL:https://wajimanavi.jp/event/5385
CATEGORIES:イベント
ATTACH;FMTTYPE=image/jpeg:https://wajimanavi.jp/wp-content/uploads/2023/02/7dd4c3f74f006b34bb1d70d7adebd54e.jpg
END:VEVENT
BEGIN:VEVENT
DTSTART;TZID=Asia/Tokyo:20230528T091500
DTEND;TZID=Asia/Tokyo:20230528T163000
DTSTAMP:20260425T011223
CREATED:20230325T000029Z
LAST-MODIFIED:20230325T000029Z
UID:10000070-1685265300-1685291400@wajimanavi.jp
SUMMARY:第35回 能登麦屋節全国大会
DESCRIPTION:「能登麦屋節」は、輪島素麺の原料となる小麦粉をひく折の作業の中から生まれた唄で、室町時代末頃から歌い継がれてきました。\n昭和43年には石川県指定無形民俗文化財に指定され、今では全国的な広がりを見せています。\nこの「能登麦屋節」がますます普及・発展することを願い、発祥の地「輪島市」において毎年「能登麦屋節全国大会」を開催しています。 \n  \n \n 
URL:https://wajimanavi.jp/event/%e3%80%8c%e7%ac%ac%ef%bc%93%ef%bc%94%e5%9b%9e%e8%83%bd%e7%99%bb%e9%ba%a6%e5%b1%8b%e7%af%80%e5%85%a8%e5%9b%bd%e5%a4%a7%e4%bc%9a%e3%80%8d
CATEGORIES:イベント
ATTACH;FMTTYPE=image/jpeg:https://wajimanavi.jp/wp-content/uploads/2022/05/mugiyabushi2018_2.jpg
END:VEVENT
END:VCALENDAR