BEGIN:VCALENDAR
VERSION:2.0
PRODID:-//輪島たび結び｜能登輪島観光情報発信｜輪島市観光課・観光協会公式サイト - ECPv6.15.17//NONSGML v1.0//EN
CALSCALE:GREGORIAN
METHOD:PUBLISH
X-ORIGINAL-URL:https://wajimanavi.jp
X-WR-CALDESC:輪島たび結び｜能登輪島観光情報発信｜輪島市観光課・観光協会公式サイト のイベント
REFRESH-INTERVAL;VALUE=DURATION:PT1H
X-Robots-Tag:noindex
X-PUBLISHED-TTL:PT1H
BEGIN:VTIMEZONE
TZID:Asia/Tokyo
BEGIN:STANDARD
TZOFFSETFROM:+0900
TZOFFSETTO:+0900
TZNAME:JST
DTSTART:20220101T000000
END:STANDARD
END:VTIMEZONE
BEGIN:VEVENT
DTSTART;TZID=Asia/Tokyo:20230401T080000
DTEND;TZID=Asia/Tokyo:20231001T170000
DTSTAMP:20260425T011428
CREATED:20230404T011826Z
LAST-MODIFIED:20230404T011826Z
UID:10000077-1680336000-1696179600@wajimanavi.jp
SUMMARY:【ソラハナ】能登總持寺×アンブレラスカイ​　10月1日(日)まで
DESCRIPTION:神と仏が共有する聖地　差し込む光が創る六色の路、空を舞う傘が總持寺祖院に太陽の光で彩られた道を創る。​\n能登總持寺×アンブレラスカイ​を開催！ \n【日時】4月1日(土)～10月1日(日) 8:00～17:00(總持寺祖院拝観時間に準ずる)\n【場所】大本山總持寺祖院\n※ソライロ開催場所は總持寺祖院境内になりますので、ご覧頂くには總持寺祖院拝観料が必要。\n【拝観料】\n・大人:500円\n・高校生・中学生:400円\n・小学生:200円
URL:https://wajimanavi.jp/event/sorahana%e9%96%8b%e5%82%ac
CATEGORIES:イベント
ATTACH;FMTTYPE=image/jpeg:https://wajimanavi.jp/wp-content/uploads/2023/04/88aaa7be5f4bea14c954bb22d19e2d1d.jpg
END:VEVENT
BEGIN:VEVENT
DTSTART;TZID=Asia/Tokyo:20230429T203000
DTEND;TZID=Asia/Tokyo:20231009T205000
DTSTAMP:20260425T011428
CREATED:20230217T000016Z
LAST-MODIFIED:20230217T000016Z
UID:10000067-1682800200-1696884600@wajimanavi.jp
SUMMARY:【御陣乗太鼓無料実演】 　10月9日（月・祝）まで　　
DESCRIPTION:2023年御陣乗太鼓無料実演\n【時間】20時30分～20時50分\n【場所】輪島市マリンタウン6-1　輪島キリコ会館もてなし広場\n【問合せ先】輪島キリコ会館　TEL 0768-22-7100\n \n\n\n\n御陣乗太鼓公式サイト
URL:https://wajimanavi.jp/event/gojinjitsuen
CATEGORIES:イベント
ATTACH;FMTTYPE=image/jpeg:https://wajimanavi.jp/wp-content/uploads/2020/03/20190427.jpg
END:VEVENT
BEGIN:VEVENT
DTSTART;TZID=Asia/Tokyo:20230617T000000
DTEND;TZID=Asia/Tokyo:20230618T235959
DTSTAMP:20260425T011428
CREATED:20230421T000036Z
LAST-MODIFIED:20230421T000036Z
UID:10000080-1686960000-1687132799@wajimanavi.jp
SUMMARY:2023年JAF全日本ダートトライアル選手権第5戦 ダートスプリント in 門前
DESCRIPTION:♦ギャラリー観戦は、6/18(日) 決勝日のみとなります。♦\n〇会場には直接行けませんのでシャトルバスをご利用ください。\n※シャトルバス乗車場所：門前グラウンドゴルフ場前・門前武道館前\n※シャトルバスは、午前6時50分から運行\n〇競技開始時間：午前8時25分～(予定)\n〇入場料：当日券のみ1\,500円(中学生以下は無料)\n※シャトルバス乗り場で購入できます。\n〇お問い合わせ先：門前総合支所地域振興課\nTEL:0768-42-1111\n \n【2023年 全日本ダートトライアル選手権】\n全日本選手権として申請された国内格式のダートトライアル競技会の中から、日本ジムカーナ/ダートトライアル選手権競技会に適合する競技会を、JAFは全日本ダートトライアル選手権競技会として認定しています。\n全国にあるJAF公認スピード競技コース（ダートトライアル）で開催され、北海道から九州までを転戦する最大8大会のシリーズ戦となっています。\n参加車両はスピードD車両やSC車両、SA･SAX車両、Ｎ車両、PN車両などが主力で、これら改造範囲の他に、排気量や駆動方式などによるPNE1からDまでのクラス分けがあります。\nこの内PNE1クラスとPNE2クラスにはオートマチック限定免許でも運転可能な車両で出場できるようになっています。\n輪島市門前モータースポーツ公園は、JAF公認第二種コース、施設総面積82\,915平方メートル、砂利路面、一部アスファルト舗装、最大直線約300ｍ。\n大自然の中で起伏にとんだコースでの走行が楽しめます。\n全国の走り屋が集う祭典です。 \n〇開催日\n2023年6月17日(土)→公開練習\n　　　6月18日(日)→決勝日\n〇開催場所：輪島市門前モータースポーツ公園
URL:https://wajimanavi.jp/event/%e3%83%80%e3%83%bc%e3%83%88%e3%82%b9%e3%83%97%e3%83%aa%e3%83%b3%e3%83%88in%e9%96%80%e5%89%8d
LOCATION:曽々木海岸・窓岩
CATEGORIES:イベント,スポーツ
ATTACH;FMTTYPE=image/jpeg:https://wajimanavi.jp/wp-content/uploads/2023/04/9cd6e46fd7f704665bbb811d71046a92.jpg
END:VEVENT
END:VCALENDAR