BEGIN:VCALENDAR
VERSION:2.0
PRODID:-//輪島たび結び｜能登輪島観光情報発信｜輪島市観光課・観光協会公式サイト - ECPv6.15.17//NONSGML v1.0//EN
CALSCALE:GREGORIAN
METHOD:PUBLISH
X-WR-CALNAME:輪島たび結び｜能登輪島観光情報発信｜輪島市観光課・観光協会公式サイト
X-ORIGINAL-URL:https://wajimanavi.jp
X-WR-CALDESC:輪島たび結び｜能登輪島観光情報発信｜輪島市観光課・観光協会公式サイト のイベント
REFRESH-INTERVAL;VALUE=DURATION:PT1H
X-Robots-Tag:noindex
X-PUBLISHED-TTL:PT1H
BEGIN:VTIMEZONE
TZID:Asia/Tokyo
BEGIN:STANDARD
TZOFFSETFROM:+0900
TZOFFSETTO:+0900
TZNAME:JST
DTSTART:20210101T000000
END:STANDARD
END:VTIMEZONE
BEGIN:VEVENT
DTSTART;TZID=Asia/Tokyo:20220709T090000
DTEND;TZID=Asia/Tokyo:20220911T170000
DTSTAMP:20260425T201030
CREATED:20220713T010139Z
LAST-MODIFIED:20220713T010139Z
UID:10000046-1657357200-1662915600@wajimanavi.jp
SUMMARY:うるしの昆虫館〜むしむし大集合！〜
DESCRIPTION:うるしの昆虫館―むしむし大集合！―\nチョウやトンボ、ホタルなど、自然豊かな日本において身近な存在である昆虫をモチーフにした漆芸作品を展示します。\n多様な漆芸技法によって表現される虫たちの世界をご案内します。 \n会期：2022年7月9日(土)～9月11日(日)※会期中無休\n開館時間：午前9時～午後5時(入館は閉館の30分前まで)\n主催：石川県輪島漆芸美術館\n会場：石川県輪島漆芸美術館 展示室1・2\n入館料：一般：630円(520円)　\n　　　　　高大学生：320円(210円)\n　　　　　小中学生：150円(100円)\n　　　　　※(　)内は20人以上の団体料金 \n展覧会関連イベント\n〇ワークショップ\n「夏の蒔絵ストラップを作ろう！」\n日時：8月7日(日)午前10時～午後2時\n会場：講義室\n体験料：1個 200円(予約不要・随時受付)\n対象：小学生以上 \n〇セミナー\n「漆で描かれた昆虫たちについて」\n日時：8月21日(日)午後2時～午後3時\n講師：石川卓弥氏(石川県ふれあい昆虫館学芸員)＊講師はリモート出演のため来場しません。\n会場：講義室（聴講無料・定員30名）＊要事前予約・詳細はこちら。\n対象：小学校3年生以上(大人のみの参加も可能) \n 
URL:https://wajimanavi.jp/event/%e7%94%9f%e6%96%b0%e3%81%ae%e6%99%822022-%e3%80%9c%e6%bc%86%e8%8a%b8%e3%81%ae%e6%9c%aa%e6%9d%a5%e3%82%92%e6%8b%93%e3%81%8f%e3%80%9c
CATEGORIES:イベント
ATTACH;FMTTYPE=image/jpeg:https://wajimanavi.jp/wp-content/uploads/2022/05/EPSON009.jpg
END:VEVENT
BEGIN:VEVENT
DTSTART;TZID=Asia/Tokyo:20220709T130000
DTEND;TZID=Asia/Tokyo:20220709T160000
DTSTAMP:20260425T201030
CREATED:20220705T043142Z
LAST-MODIFIED:20220705T043142Z
UID:10000047-1657371600-1657382400@wajimanavi.jp
SUMMARY:倭－YAMATO日本ツアー2022  石川公演
DESCRIPTION:日本の故郷と呼ばれる奈良県明日香村を拠点に活動を続ける「倭－YAMATO」\n1993年結成より世界を駆け巡る和太鼓集団としてこれまでに54カ国4000回以上の公演を行っている。\n太古から、人々を鼓舞し奮いたたせてきた和太鼓。その伝統への敬意を胸に秘め、「倭－YAMATO」は革新に挑み続ける。\n7年ぶりの輪島公演は4月～5月に行ったオランダツアーの凱旋公演となる。\n鍛え上げた肉体で打ち鳴らす和太鼓パフォーマンスをお楽しみください。 \n全席指定 一般  3\,500円(当日4\,000円)・中高生  3\,000円(当日3\,500円)・小学生以下 2\,500円(当日3\,000円)\n※3歳以下のお子様はひざ上無料、席が必要な場合はチケットが必要です。 \n輪島市文化会館(9:00～17:00) 0768-22-7666\nローソンチケット　　　　　   Lコード:51478\n※前売券売り切れの場合は、当日券の販売はありません
URL:https://wajimanavi.jp/event/%e5%80%ad%ef%bc%8dyamato%e6%97%a5%e6%9c%ac%e3%83%84%e3%82%a2%e3%83%bc2022-%e3%80%80%e8%bc%aa%e5%b3%b6%e5%85%ac%e6%bc%94
CATEGORIES:イベント
ATTACH;FMTTYPE=image/jpeg:https://wajimanavi.jp/wp-content/uploads/2022/07/YAMATO.jpg
END:VEVENT
END:VCALENDAR