BEGIN:VCALENDAR
VERSION:2.0
PRODID:-//輪島たび結び｜能登輪島観光情報発信｜輪島市観光課・観光協会公式サイト - ECPv6.15.17//NONSGML v1.0//EN
CALSCALE:GREGORIAN
METHOD:PUBLISH
X-WR-CALNAME:輪島たび結び｜能登輪島観光情報発信｜輪島市観光課・観光協会公式サイト
X-ORIGINAL-URL:https://wajimanavi.jp
X-WR-CALDESC:輪島たび結び｜能登輪島観光情報発信｜輪島市観光課・観光協会公式サイト のイベント
REFRESH-INTERVAL;VALUE=DURATION:PT1H
X-Robots-Tag:noindex
X-PUBLISHED-TTL:PT1H
BEGIN:VTIMEZONE
TZID:Asia/Tokyo
BEGIN:STANDARD
TZOFFSETFROM:+0900
TZOFFSETTO:+0900
TZNAME:JST
DTSTART:20190101T000000
END:STANDARD
END:VTIMEZONE
BEGIN:VEVENT
DTSTART;TZID=Asia/Tokyo:20200523T000000
DTEND;TZID=Asia/Tokyo:20200524T235959
DTSTAMP:20260423T065447
CREATED:20190512T005903Z
LAST-MODIFIED:20190512T005903Z
UID:10000016-1590192000-1590364799@wajimanavi.jp
SUMMARY:SSTR 2020（サンライズ・サンセット・ツーリング・ラリー）【延期】開催予定日：10月24日（土）〜25日（日）
DESCRIPTION:SSTR2020の開催延期を決定しました。\n延期後の開催予定日：10月24日（土）〜25日（日）\n開催日時・場所・参加人員等\n \n\n１．開催日：2020年10月24日（土）～25日（日）雨天決行 \n２．開催地：23日の現地受付ならびにおもてなし会場として以下の3会場を設けます。エントリー時に選択ください。 \n千里浜会場　：石川県羽咋市 千里浜なぎさドライブウェイ特設会場\n輪島会場  　：石川県輪島市 マリンタウン特設会場\n和倉温泉会場：石川県七尾市 和倉温泉お祭り会館特設会場\n24日 ゴール祝賀イベント（参加任意）：上記 千里浜会場 \n３．定員数： 5\,000台 \n内訳： 千里浜会場  3\,500台\n輪島会場    700台\n和倉温泉会場  800台 \n  \n 
URL:https://wajimanavi.jp/event/sstr
LOCATION:0000002123_m
CATEGORIES:イベント
ATTACH;FMTTYPE=image/jpeg:https://wajimanavi.jp/wp-content/uploads/2019/05/DSC_5064-scaled-1.jpg
END:VEVENT
END:VCALENDAR