BEGIN:VCALENDAR
VERSION:2.0
PRODID:-//輪島たび結び｜能登輪島観光情報発信｜輪島市観光課・観光協会公式サイト - ECPv6.15.17//NONSGML v1.0//EN
CALSCALE:GREGORIAN
METHOD:PUBLISH
X-WR-CALNAME:輪島たび結び｜能登輪島観光情報発信｜輪島市観光課・観光協会公式サイト
X-ORIGINAL-URL:https://wajimanavi.jp
X-WR-CALDESC:輪島たび結び｜能登輪島観光情報発信｜輪島市観光課・観光協会公式サイト のイベント
REFRESH-INTERVAL;VALUE=DURATION:PT1H
X-Robots-Tag:noindex
X-PUBLISHED-TTL:PT1H
BEGIN:VTIMEZONE
TZID:Asia/Tokyo
BEGIN:STANDARD
TZOFFSETFROM:+0900
TZOFFSETTO:+0900
TZNAME:JST
DTSTART:20220101T000000
END:STANDARD
END:VTIMEZONE
BEGIN:VEVENT
DTSTART;TZID=Asia/Tokyo:20230603T070000
DTEND;TZID=Asia/Tokyo:20230603T210000
DTSTAMP:20260425T214624
CREATED:20230419T000045Z
LAST-MODIFIED:20230419T000045Z
UID:10000082-1685775600-1685826000@wajimanavi.jp
SUMMARY:にっぽん丸寄港 2023
DESCRIPTION:「 輪島市民まつり 2023」の開催に合わせて「にっぽん丸」が寄港します。 \n○入港\n日時：2023年6月3日(土) 7:00〜\n会場：マリンタウン岸壁(入港セレモニー) \n○出港\n日時：2023年6月3日(土) 21:00〜\n会場：マリンタウン岸壁(お見送りセレモニー)
URL:https://wajimanavi.jp/event/nipponmaru
CATEGORIES:イベント
ATTACH;FMTTYPE=image/jpeg:https://wajimanavi.jp/wp-content/uploads/2023/03/DSC_0491.jpg
END:VEVENT
BEGIN:VEVENT
DTSTART;TZID=Asia/Tokyo:20230603T200000
DTEND;TZID=Asia/Tokyo:20230603T202000
DTSTAMP:20260425T214624
CREATED:20230325T000043Z
LAST-MODIFIED:20230325T000043Z
UID:10000066-1685822400-1685823600@wajimanavi.jp
SUMMARY:輪島市民大花火大会　2023
DESCRIPTION:打上発数 約25\,000発！！\n20時から怒涛の20分間です！！ \n開催日時：2023年6月3日（土）20:00〜20:20\n開催会場：マリンタウン \n 
URL:https://wajimanavi.jp/event/daihanabitaikai
LOCATION:0000002123_m
CATEGORIES:イベント
ATTACH;FMTTYPE=image/jpeg:https://wajimanavi.jp/wp-content/uploads/2019/03/hanabi.jpg
END:VEVENT
BEGIN:VEVENT
DTSTART;TZID=Asia/Tokyo:20230611T090000
DTEND;TZID=Asia/Tokyo:20230611T120000
DTSTAMP:20260425T214624
CREATED:20230422T064545Z
LAST-MODIFIED:20230422T064545Z
UID:10000089-1686474000-1686484800@wajimanavi.jp
SUMMARY:白米千枚田 草取り
DESCRIPTION:白米千枚田では、稲のまわりの雑草を人の手で取り除いて作業を行います。
URL:https://wajimanavi.jp/event/%e7%99%bd%e7%b1%b3%e5%8d%83%e6%9e%9a%e7%94%b0%e3%80%80%e8%8d%89%e5%8f%96%e3%82%8a
LOCATION:Calendar Views (イベント Archive)
CATEGORIES:イベント,千枚田
ATTACH;FMTTYPE=image/jpeg:https://wajimanavi.jp/wp-content/uploads/2023/04/16821435364181.jpg
END:VEVENT
BEGIN:VEVENT
DTSTART;TZID=Asia/Tokyo:20230617T000000
DTEND;TZID=Asia/Tokyo:20230618T235959
DTSTAMP:20260425T214624
CREATED:20230421T000036Z
LAST-MODIFIED:20230421T000036Z
UID:10000080-1686960000-1687132799@wajimanavi.jp
SUMMARY:2023年JAF全日本ダートトライアル選手権第5戦 ダートスプリント in 門前
DESCRIPTION:♦ギャラリー観戦は、6/18(日) 決勝日のみとなります。♦\n〇会場には直接行けませんのでシャトルバスをご利用ください。\n※シャトルバス乗車場所：門前グラウンドゴルフ場前・門前武道館前\n※シャトルバスは、午前6時50分から運行\n〇競技開始時間：午前8時25分～(予定)\n〇入場料：当日券のみ1\,500円(中学生以下は無料)\n※シャトルバス乗り場で購入できます。\n〇お問い合わせ先：門前総合支所地域振興課\nTEL:0768-42-1111\n \n【2023年 全日本ダートトライアル選手権】\n全日本選手権として申請された国内格式のダートトライアル競技会の中から、日本ジムカーナ/ダートトライアル選手権競技会に適合する競技会を、JAFは全日本ダートトライアル選手権競技会として認定しています。\n全国にあるJAF公認スピード競技コース（ダートトライアル）で開催され、北海道から九州までを転戦する最大8大会のシリーズ戦となっています。\n参加車両はスピードD車両やSC車両、SA･SAX車両、Ｎ車両、PN車両などが主力で、これら改造範囲の他に、排気量や駆動方式などによるPNE1からDまでのクラス分けがあります。\nこの内PNE1クラスとPNE2クラスにはオートマチック限定免許でも運転可能な車両で出場できるようになっています。\n輪島市門前モータースポーツ公園は、JAF公認第二種コース、施設総面積82\,915平方メートル、砂利路面、一部アスファルト舗装、最大直線約300ｍ。\n大自然の中で起伏にとんだコースでの走行が楽しめます。\n全国の走り屋が集う祭典です。 \n〇開催日\n2023年6月17日(土)→公開練習\n　　　6月18日(日)→決勝日\n〇開催場所：輪島市門前モータースポーツ公園
URL:https://wajimanavi.jp/event/%e3%83%80%e3%83%bc%e3%83%88%e3%82%b9%e3%83%97%e3%83%aa%e3%83%b3%e3%83%88in%e9%96%80%e5%89%8d
LOCATION:曽々木海岸・窓岩
CATEGORIES:イベント,スポーツ
ATTACH;FMTTYPE=image/jpeg:https://wajimanavi.jp/wp-content/uploads/2023/04/9cd6e46fd7f704665bbb811d71046a92.jpg
END:VEVENT
BEGIN:VEVENT
DTSTART;TZID=Asia/Tokyo:20230716T090000
DTEND;TZID=Asia/Tokyo:20230716T200000
DTSTAMP:20260425T214624
CREATED:20230612T000035Z
LAST-MODIFIED:20230612T000035Z
UID:10000085-1689498000-1689537600@wajimanavi.jp
SUMMARY:7月16日（日）第38回 全国北誠会 アートトラックチャリティ撮影会 in 輪島
DESCRIPTION:全国から駆けつけたデコトラが会場に並び、イベントステージではライブが行われます。 \n日時：2023年7月16日（日）\n会場：輪島市 輪島マリンタウン \n「スケジュール」\n9:00 トラック開場\n10:00 一般車両開場\n11:00 開会式\n18:00 ナイトシーン
URL:https://wajimanavi.jp/event/%e3%83%87%e3%82%b3%e3%83%88%e3%83%a9-in-%e8%bc%aa%e5%b3%b6-2022%e5%8c%97%e8%aa%a0%e4%bc%9a%e3%83%81%e3%83%a3%e3%83%aa%e3%83%86%e3%82%a3%e6%92%ae%e5%bd%b1%e4%bc%9a
CATEGORIES:イベント
ATTACH;FMTTYPE=image/jpeg:https://wajimanavi.jp/wp-content/uploads/2022/07/b206f41f329d056121e8030cb4f87c5a.jpg
END:VEVENT
BEGIN:VEVENT
DTSTART;TZID=Asia/Tokyo:20230731T000000
DTEND;TZID=Asia/Tokyo:20230801T235959
DTSTAMP:20260425T214624
CREATED:20230625T000040Z
LAST-MODIFIED:20230625T000040Z
UID:10000081-1690761600-1690934399@wajimanavi.jp
SUMMARY:7月31日（月）・8月1日（火）【名舟大祭】通常開催　
DESCRIPTION:2023年の「名舟大祭」は通常通り開催されます。\nただし開催前にお祭りの内容が変更する可能性があります。\n御陣乗太鼓発祥の地へ！\n名舟大祭の目玉は、なんといってもこの地に古くから伝わる「御陣乗太鼓」！\nこの地に伝わる伝統を体験ください…。 \nそれは天正4年（1576年）、上杉謙信の能登攻略のとき、古老の一計で奇妙な面を付け、陣太鼓を打ち鳴らし上杉軍に奇襲をかけ敗走させたのが始まりといわれています。「翁面」「でか面」「夜叉面」「ダルマ面」「男幽面」「女幽面」の6種類の面を付けた6人の男達により叩かれる。\n御陣乗太鼓の伝承は地元に生まれたものにしか資格がなく、今も引き継がれており、石川県指定無形文化財に指定されている。 \n【2023年 名舟大祭 執行日程】\n○7月31日(日)　宵祭\n21:00　キリコ宿元出発合 \n21:30　キリコ神社境内に集合完了(祭事始め 祝詞奏上・子ども御陣乗太鼓) \n22:00　キリコ神社境内を出発 \n22:10　御神輿渡御(舳倉島より神霊お迎え) \n22:30　御陣乗太鼓奉納打ち(御陣乗太鼓本番打ち） \n23:00　御神輿渡御、キリコの町内渡御 \n0:00　御神輿仮屋に到着(御神輿お泊り) \n○8月1日(月)　本祭\n14:00　神楽奉上 御神輿仮屋より出発（御陣乗太鼓が山車で先導） \n14:40　御神輿会場渡卸(舳倉島より神霊お見送り) \n15:00　御陣乗太鼓奉納打ち \n15:20　御神輿社殿に還御 祝詞奏上 \n15:40　創作神楽舞「奥津かぐや姫」奉納 \n16:20　祭礼終了 \n※多少の時間の遅速があります。
URL:https://wajimanavi.jp/event/nabune
LOCATION:0000001166_l
CATEGORIES:イベント,祭り
ATTACH;FMTTYPE=image/jpeg:https://wajimanavi.jp/wp-content/uploads/2018/03/0000001469_l.jpg
END:VEVENT
BEGIN:VEVENT
DTSTART;TZID=Asia/Tokyo:20230813T180000
DTEND;TZID=Asia/Tokyo:20230813T213000
DTSTAMP:20260425T214624
CREATED:20230717T222929Z
LAST-MODIFIED:20230717T222929Z
UID:10000093-1691949600-1691962200@wajimanavi.jp
SUMMARY:8月13日（日）平家の里ふるさと五千人の祭典、花火大会【Youtubeライブ配信予定】
DESCRIPTION:ライブ配信・最新情報は公式サイトで
URL:https://wajimanavi.jp/event/machino5000
CATEGORIES:イベント
END:VEVENT
BEGIN:VEVENT
DTSTART;TZID=Asia/Tokyo:20230813T203000
DTEND;TZID=Asia/Tokyo:20230813T210000
DTSTAMP:20260425T214624
CREATED:20210715T012248Z
LAST-MODIFIED:20210715T012248Z
UID:10000037-1691958600-1691960400@wajimanavi.jp
SUMMARY:8月13日【禅の里 大花火】輪島市門前グランドゴルフ場　
DESCRIPTION:太祖瑩山紹瑾禅師７００回大遠忌「能登結縁（のとけちえん）」を記念した花火大会。\n門前の夜空に花火の華が開きます！ \n​​\n開催日：令和5年8月13日(日)\n開催場所：輪島市門前グランドゴルフ場\n打ち上げ開始：20:30〜 \n○無料シャトルバス運行　18:00〜随時\n・門前総合支所⇔花火会場(門前グランドゴルフ場)\n・門前健民体育館⇔花火会場(門前グランドゴルフ場)
URL:https://wajimanavi.jp/event/zennosatohanabi
CATEGORIES:イベント
ATTACH;FMTTYPE=image/jpeg:https://wajimanavi.jp/wp-content/uploads/2021/07/zennosatohanabi.jpg
END:VEVENT
BEGIN:VEVENT
DTSTART;TZID=Asia/Tokyo:20230916T000000
DTEND;TZID=Asia/Tokyo:20230918T235959
DTSTAMP:20260425T214624
CREATED:20230522T000041Z
LAST-MODIFIED:20230522T000041Z
UID:10000083-1694822400-1695081599@wajimanavi.jp
SUMMARY:9月16日（土）・17日（日）・18日（月・祝）第35回 ツール・ド・のと400
DESCRIPTION:【第35回 ツール・ド・のと400】\n「ツール・ド・のと400」は、能登半島の振興を目的とし、平成元年（1989年）に第１回大会を開催して以来、今回が第35回大会となります。 自然景観に恵まれ、起伏に富んだ能登半島の海岸線を３日間で一周するサイクリング大会です。総距離が400キロメートルを超えることから、 『ツール・ド・のと400』の大会名のもと、国内最長級の大会として全国から多くのサイクリストが挑んでいます。 あくまでも交通規則、大会規則を守りながら完走を目指すサイクリング大会ですが、3日間とも「出走制限時間制」が設けられ、設定時間内での走行が求められています。 \n○チャンピオンコース(3日間コース、全長400km)\n○1日コース(全長約140km、約150km、約120km)\n○ハーフコース(全長約70km)
URL:https://wajimanavi.jp/event/tu-rudo
CATEGORIES:イベント
ATTACH;FMTTYPE=image/jpeg:https://wajimanavi.jp/wp-content/uploads/2022/08/6653868d07d735c4092b6f416bf53ec7.jpg
END:VEVENT
BEGIN:VEVENT
DTSTART;TZID=Asia/Tokyo:20231002T090000
DTEND;TZID=Asia/Tokyo:20240331T170000
DTSTAMP:20260425T214624
CREATED:20201003T011027Z
LAST-MODIFIED:20201003T011027Z
UID:10000032-1696237200-1711904400@wajimanavi.jp
SUMMARY:ワガサイロ 和傘×回廊 2023/10/2(月)～2024/03/31(日)
DESCRIPTION:イベント名\nワガサイロ 和傘×回廊\n\n\n開催期間：\n2023年10月2日（月）～2024年3月31日（日）　8時～17時（拝観時間に準ずる）\n\n\n開催場所：\n大本山總持寺祖院　　※入場には拝観料が必要\n\n\n主催：\n禅の里づくり推進協議会
URL:https://wajimanavi.jp/event/wagasairo
LOCATION:剱地権現岩(トトロ岩)
CATEGORIES:イベント
ATTACH;FMTTYPE=image/jpeg:https://wajimanavi.jp/wp-content/uploads/2023/10/wagasa2023-1.jpg
END:VEVENT
BEGIN:VEVENT
DTSTART;TZID=Asia/Tokyo:20231007T000000
DTEND;TZID=Asia/Tokyo:20231007T235959
DTSTAMP:20260425T214624
CREATED:20230613T000041Z
LAST-MODIFIED:20230613T000041Z
UID:10000086-1696636800-1696723199@wajimanavi.jp
SUMMARY:10月7日(土) 第8回 峨山道トレイルラン
DESCRIPTION:【峨山道トレイルラン】\n歴史古道「峨山道」のルーツである大本山總持寺が、2021年に開創700年を迎えました。\n全国に15\,000余の寺院と800万人の檀信徒を有する曹洞宗の礎を築いた總持寺第二祖の峨山禅師が、總持寺と永光寺の住職を兼職した間、13里(約52km)とも15里(約60km)ともいわれる急峻な道を駆けるように往来したと言われ、その道は「峨山道」として今に伝えられています。 \n700年間踏みしめられてきた「峨山道」で「第8回 峨山道トレイルラン」を「2023年10月7日(土)」に開催いたします。\n今年は「クラシカル(77km)」と「ミドル(30km)」の2コースです。\nトレイルランニングを通して、歴史とストーリーに溢れた古道と能登に育まれた禅文化、そして豊かな里山の自然を全国の皆様に発信することを目的とし、大会を開催します。 \nレース期間中は、飾らない里山の風景と素朴な人々の笑顔が皆様をお待ちいたしております。\nこの秋のレース計画に「峨山道トレイルラン」をお選びいただければ幸いに存じます。
URL:https://wajimanavi.jp/event/%e5%b3%a8%e5%b1%b1%e9%81%93%e3%83%88%e3%83%ac%e3%82%a4%e3%83%ab%e3%83%a9%e3%83%b3
LOCATION:剱地権現岩(トトロ岩)
CATEGORIES:イベント,スポーツ
ATTACH;FMTTYPE=image/jpeg:https://wajimanavi.jp/wp-content/uploads/2022/08/8bc1ec0c307dfd5d05f2be0fca51aeb3.jpg
END:VEVENT
BEGIN:VEVENT
DTSTART;TZID=Asia/Tokyo:20231111T090000
DTEND;TZID=Asia/Tokyo:20231111T150000
DTSTAMP:20260425T214624
CREATED:20231025T024459Z
LAST-MODIFIED:20260115T095111Z
UID:10000099-1699693200-1699714800@wajimanavi.jp
SUMMARY:11月11日（土）林業祭（石川県健康の森）
DESCRIPTION:
URL:https://wajimanavi.jp/event/ringyomatsuri
CATEGORIES:イベント
END:VEVENT
BEGIN:VEVENT
DTSTART;TZID=Asia/Tokyo:20231111T120000
DTEND;TZID=Asia/Tokyo:20231112T200000
DTSTAMP:20260425T214624
CREATED:20231012T064931Z
LAST-MODIFIED:20260115T094609Z
UID:10000097-1699704000-1699819200@wajimanavi.jp
SUMMARY:里山・里海文化まつり　11月11日（土）・12日（日）：輪島マリンタウン
DESCRIPTION:輪島市の輪島キリコ会館にて行われる「輝く文化のパビリオン」の第２弾イベント。 \n​キリコ会館特設ステージでのお笑いLIVEやダンスなど多彩なステージとキリコ会館壁面一体をデジタルアートが照らす。キッチンカー出店もあり、文化の祭典を盛り上げます。 \n\n\n\n開催日　：２０２３年１１月１１日（土）・１２日（日）(１２日はデジタルアートのみの開催となります。） \n開催場所：輪島キリコ会館 \n　　　　　石川県輪島市マリンタウン6番1 \n​時間　　：１２:００−２０:００​ \n​問合せ　：輪島市産業部観光課　tel:0768-23-1146 \n【ポスターデータ解禁！】​​ \n\n\n\n​　・ステージ詳細、タイムスケジュールなどは決定次第、アップいたします\n \n 
URL:https://wajimanavi.jp/event/satoyamasatoumi
CATEGORIES:イベント
ATTACH;FMTTYPE=image/webp:https://wajimanavi.jp/wp-content/uploads/2023/10/b05d34dc07778be38c90adfb082524c1.webp
END:VEVENT
BEGIN:VEVENT
DTSTART;TZID=Asia/Tokyo:20260606T093000
DTEND;TZID=Asia/Tokyo:20260607T150000
DTSTAMP:20260425T214624
CREATED:20230210T014657Z
LAST-MODIFIED:20260417T082346Z
UID:10000075-1780738200-1780844400@wajimanavi.jp
SUMMARY:輪島市民まつり 2026
DESCRIPTION:輪島市民まつり2026\n\n\n\n～震災からの復興・創生をめざして～ \n\n\n\n\n\n\n\n6月6日（土）マリンタウン会場\n\n\n\n09:30 ～ 09:40     輪島市民まつりオープニング    会場：マリンタウン大型テント09:30 ～ 18:00マリンタウン会場食まつり会場：マリンタウン大型テント09:30 ～ 18:00倭の島子ども広場会場：マリンタウン会場10:00 ～ 15:00緊急・特殊車輌展示会場：マリンタウン会場10:00 ～ 16:00自衛隊車輌展示会場：マリンタウン会場09:40 ～ 10:40倭の島子どもステージ会場：マリンタウン 特設ステージ11:00 ～ 11:30東京ディズニーリゾート®スペシャルパレード  オフィシャルウェブサイトはこちら会場：マリンタウン（ルートイン輪島前交差点付近～塚田橋詰交差点付近）12:00 ～ 13:00自衛隊航空機 フライバイ会場：マリンタウン上空13:30 ～ 15:00倭の島交流大パレード会場：マリンタウン 特設ステージ15:10 ～ 15:40ステージイベント会場：マリンタウン 特設ステージ16:30 ～ 18:00輪島市民まつり演奏会会場：マリンタウン 特設ステージ12:00 ～ 16:00輪島オートモビルミーティング会場：マリンタウン会場\n\n\n\n輪島市民まつり2026　大花火大会は中止となります。ご理解のほどよろしくお願いいたします \n\n\n\n6月7日（日）門前總持寺会場\n\n\n\n10:00 ～ 15:00總持寺会場食まつり会場：門前総合支所前10:00 ～ 15:00禅の里子ども広場会場：門前会館前10:30 ～ 11:15禅の里パレード会場：総持寺通り〜門前総合支所前11:15 ～ 11:40門前地区小学校 鼓笛演奏会場：門前総合支所前11:40 ～ 13:30禅の里交流ステージ会場：門前総合支所前\n\n\n\n\n\n\n\n輪島市民まつり 会場案内および交通規制について
URL:https://wajimanavi.jp/event/shiminmatsuri
LOCATION:0000001814_l
CATEGORIES:イベント
ATTACH;FMTTYPE=image/jpeg:https://wajimanavi.jp/wp-content/uploads/2023/02/IMG_4162-1280x853-1.jpg
END:VEVENT
END:VCALENDAR