BEGIN:VCALENDAR
VERSION:2.0
PRODID:-//輪島たび結び｜能登輪島観光情報発信｜輪島市観光課・観光協会公式サイト - ECPv6.15.17//NONSGML v1.0//EN
CALSCALE:GREGORIAN
METHOD:PUBLISH
X-WR-CALNAME:輪島たび結び｜能登輪島観光情報発信｜輪島市観光課・観光協会公式サイト
X-ORIGINAL-URL:https://wajimanavi.jp
X-WR-CALDESC:輪島たび結び｜能登輪島観光情報発信｜輪島市観光課・観光協会公式サイト のイベント
REFRESH-INTERVAL;VALUE=DURATION:PT1H
X-Robots-Tag:noindex
X-PUBLISHED-TTL:PT1H
BEGIN:VTIMEZONE
TZID:Asia/Tokyo
BEGIN:STANDARD
TZOFFSETFROM:+0900
TZOFFSETTO:+0900
TZNAME:JST
DTSTART:20220101T000000
END:STANDARD
END:VTIMEZONE
BEGIN:VEVENT
DTSTART;TZID=Asia/Tokyo:20230813T183000
DTEND;TZID=Asia/Tokyo:20230813T183000
DTSTAMP:20260424T092013
CREATED:20230722T044951Z
LAST-MODIFIED:20230722T044951Z
UID:10000094-1691951400-1691951400@wajimanavi.jp
SUMMARY:8月13日（日）松明の夕べ　輪島市門前グラウンドゴルフ場　18:30頃
DESCRIPTION:精霊様（しょうらい＝先祖の霊）を迎えるため、高さ約10メートルの松明を燃やす。\n松明の明かりを頼りに海の彼方からきたご先祖様の霊を、提灯の明かりで家の仏壇まで道案内し迎える旧盆の行事に因んで行われている。\n海辺の特設ステージでは、バンド演奏などが行われる。 \n  \n開催日：８月１３日（日）\n時　間：午後６時３０分頃\n場　所：輪島市門前グラウンドゴルフ場
URL:https://wajimanavi.jp/event/taimatunoyuube
CATEGORIES:伝統行事
END:VEVENT
BEGIN:VEVENT
DTSTART;TZID=Asia/Tokyo:20230814T200000
DTEND;TZID=Asia/Tokyo:20230816T230000
DTSTAMP:20260424T092013
CREATED:20220713T010236Z
LAST-MODIFIED:20260115T093846Z
UID:10000040-1692043200-1692226800@wajimanavi.jp
SUMMARY:8月14日～16日【三夜踊り】マリンタウン特設会場　20:00〜23:00
DESCRIPTION:三夜踊りは毎年、盂蘭盆（8月14～16日）で踊られる。\nいわゆる盆踊りであるが、その起源は古く、千百余年前から重蔵権現の本尊の地蔵祭りに由来します。\n神仏のご加護を讃える老若男女が貧富の差なく境内で踊り明かし明治初期頃に一度すたれだしたが大正の終わりころから再び盛んになりました。\n\n開催日：令和5年8月14日(月)〜16日(水)\n開催時間：20:00〜23:00\n開催場所：マリンタウン特設会場\n\n \n\n〈問い合わせ〉\n三夜踊振興連絡会事務局(市文化課)\nTEL：0768-22-7666
URL:https://wajimanavi.jp/event/sanyaodori
CATEGORIES:伝統行事
ATTACH;FMTTYPE=image/jpeg:https://wajimanavi.jp/wp-content/uploads/2022/07/sanyaodori.jpg
END:VEVENT
END:VCALENDAR