BEGIN:VCALENDAR
VERSION:2.0
PRODID:-//輪島たび結び｜能登輪島観光情報発信｜輪島市観光課・観光協会公式サイト - ECPv6.15.17//NONSGML v1.0//EN
CALSCALE:GREGORIAN
METHOD:PUBLISH
X-ORIGINAL-URL:https://wajimanavi.jp
X-WR-CALDESC:輪島たび結び｜能登輪島観光情報発信｜輪島市観光課・観光協会公式サイト のイベント
REFRESH-INTERVAL;VALUE=DURATION:PT1H
X-Robots-Tag:noindex
X-PUBLISHED-TTL:PT1H
BEGIN:VTIMEZONE
TZID:Asia/Tokyo
BEGIN:STANDARD
TZOFFSETFROM:+0900
TZOFFSETTO:+0900
TZNAME:JST
DTSTART:20210101T000000
END:STANDARD
END:VTIMEZONE
BEGIN:VEVENT
DTSTART;TZID=Asia/Tokyo:20220102T000000
DTEND;TZID=Asia/Tokyo:20220102T235959
DTSTAMP:20260425T130450
CREATED:20180310T113753Z
LAST-MODIFIED:20180310T113753Z
UID:10000007-1641081600-1641167999@wajimanavi.jp
SUMMARY:アマメハギ
DESCRIPTION:[siteorigin_widget class=”SiteOrigin_Widget_Image_Widget”][/siteorigin_widget]\n\n\n[siteorigin_widget class=”SiteOrigin_Widget_Image_Widget”][/siteorigin_widget]\n\n\n\n\n\n\nユネスコ無形文化遺産「来訪神：仮面・仮装の神々」の一つ\n\n「能登のアマメハギ」は2018年11月にユネスコ無形文化遺産「来訪神：仮面・仮装の神々」の一つとして登録されました。 \nこのアマメハギは正月や小正月などの年越しの晩に、仮面をつけた来訪者（神様）が家々を訪れてその家の災厄を祓い、幸福をもたらすというものです。 \n名前の由来「アマメ」とは、いろりに長く座っているとできるタコを指し、それをはぎ取るという意味から「アマメハギ」と呼ばれます。天狗＋異形の面をつけた若い衆が「怠け者はおらんか」などと家に入り、子供の怠け心を戒めよい子になるようにとの思いが込められています。
URL:https://wajimanavi.jp/event/amamehagi
LOCATION:0000002200_l
CATEGORIES:伝統行事
ATTACH;FMTTYPE=image/jpeg:https://wajimanavi.jp/wp-content/uploads/2018/03/ae6946cfdc5df2bcd391daffaa58028f.jpg
END:VEVENT
END:VCALENDAR