BEGIN:VCALENDAR
VERSION:2.0
PRODID:-//輪島たび結び｜能登輪島観光情報発信｜輪島市観光課・観光協会公式サイト - ECPv6.15.17//NONSGML v1.0//EN
CALSCALE:GREGORIAN
METHOD:PUBLISH
X-ORIGINAL-URL:https://wajimanavi.jp
X-WR-CALDESC:輪島たび結び｜能登輪島観光情報発信｜輪島市観光課・観光協会公式サイト のイベント
REFRESH-INTERVAL;VALUE=DURATION:PT1H
X-Robots-Tag:noindex
X-PUBLISHED-TTL:PT1H
BEGIN:VTIMEZONE
TZID:Asia/Tokyo
BEGIN:STANDARD
TZOFFSETFROM:+0900
TZOFFSETTO:+0900
TZNAME:JST
DTSTART:20220101T000000
END:STANDARD
END:VTIMEZONE
BEGIN:VEVENT
DTSTART;TZID=Asia/Tokyo:20230114T000000
DTEND;TZID=Asia/Tokyo:20230120T235959
DTSTAMP:20260424T205139
CREATED:20180310T114601Z
LAST-MODIFIED:20180310T114601Z
UID:10000008-1673654400-1674259199@wajimanavi.jp
SUMMARY:面様年頭
DESCRIPTION:[siteorigin_widget class=”SiteOrigin_Widget_Image_Widget”][/siteorigin_widget]\n\n\n[siteorigin_widget class=”SiteOrigin_Widget_Image_Widget”][/siteorigin_widget]\n\n\n\n\n\n \n厄よけの神事　面様年頭\n\n輪島崎町に古くから伝わる厄よけの神事の面様年頭。\n１月１４日（おいで面様）と１月２０日（お帰り面様）が行われます。 \n怪奇な男面（串柿面）と女面（女郎面）と狩衣をつけサカキの枝を持った夫婦神をかたどった小学生２人に供人がつき、氏子の家々を訪れ、面様は一切言葉を発しないのが習わし。\nまず、玄関をサカキの枝で強くたたいて清め、家に上がり、神棚をお払いします。家人から「面様おめでとうございます」と年賀の挨拶を受け差し出されたお初穂を受け取り家を出ます。 \n１４日は河井町重蔵神社でも行われるが、こちらは少し趣が違うものとなっています。
URL:https://wajimanavi.jp/event/mennsama
CATEGORIES:伝統行事
ATTACH;FMTTYPE=image/jpeg:https://wajimanavi.jp/wp-content/uploads/2018/03/0000002338_l.jpg
END:VEVENT
END:VCALENDAR