BEGIN:VCALENDAR
VERSION:2.0
PRODID:-//輪島たび結び｜能登輪島観光情報発信｜輪島市観光課・観光協会公式サイト - ECPv6.15.17//NONSGML v1.0//EN
CALSCALE:GREGORIAN
METHOD:PUBLISH
X-ORIGINAL-URL:https://wajimanavi.jp
X-WR-CALDESC:輪島たび結び｜能登輪島観光情報発信｜輪島市観光課・観光協会公式サイト のイベント
REFRESH-INTERVAL;VALUE=DURATION:PT1H
X-Robots-Tag:noindex
X-PUBLISHED-TTL:PT1H
BEGIN:VTIMEZONE
TZID:Asia/Tokyo
BEGIN:STANDARD
TZOFFSETFROM:+0900
TZOFFSETTO:+0900
TZNAME:JST
DTSTART:20220101T000000
END:STANDARD
END:VTIMEZONE
BEGIN:VEVENT
DTSTART;TZID=Asia/Tokyo:20230209T000000
DTEND;TZID=Asia/Tokyo:20230209T235959
DTSTAMP:20260425T000851
CREATED:20180310T113018Z
LAST-MODIFIED:20260116T052700Z
UID:10000006-1675900800-1675987199@wajimanavi.jp
SUMMARY:あえのこと
DESCRIPTION:世界無形文遺産（ユネスコ）登録（平成21年11月） \n１２月５日、田の神様を自宅に招き入れ、風呂場に案内した後、座敷でご馳走を捧げる。山盛りのご飯に味噌汁。煮物や焼き魚などを供えて栗の木の大きな箸をつける。やがてそのお下がりを家族全員で分け合っていただく。 \n２月９日、家で越冬してもらった田の神を送り出し、その年の一年の豊作を祈る。 \nもともと地域の行事ではなく、各農家の純朴な原始信仰につらなる慣行であるため、儀式の様式は農家により様々である。 \n『あえのこと』の「アエ」は「饗応（もてなしをすること）」を、「コト」は「祭事」を意味するといわれている。田の神様は目が不自由な夫婦神であるという説が一般的である。目が不自由な理由として、長い間土の中にいたからや、稲の穂先に目を突かれたからだとか。 \n現在では、農家であるないに関わらず「食への感謝」という意義を含めて、広く伝承していくために三井の里・茅葺き家屋「旧福島邸」で再興した。
URL:https://wajimanavi.jp/event/aenokoto
LOCATION:0000002177_l
CATEGORIES:伝統行事
ATTACH;FMTTYPE=image/jpeg:https://wajimanavi.jp/wp-content/uploads/2018/03/0000002503_l.jpg
END:VEVENT
BEGIN:VEVENT
DTSTART;TZID=Asia/Tokyo:20230212T000000
DTEND;TZID=Asia/Tokyo:20230212T235959
DTSTAMP:20260425T000851
CREATED:20180310T120800Z
LAST-MODIFIED:20180310T120800Z
UID:10000011-1676160000-1676246399@wajimanavi.jp
SUMMARY:万歳楽土（マンザイロクト）
DESCRIPTION:袴姿の舞人と参拝者がともに独特の節回しで「万歳楽土」と唱え、豊作を祈願します。県の無形民俗文化財に指定されている素朴な神事です。
URL:https://wajimanavi.jp/event/%e4%b8%87%e6%ad%b3%e6%a5%bd%e5%9c%9f%ef%bc%88%e3%83%9e%e3%83%b3%e3%82%b6%e3%82%a4%e3%83%ad%e3%82%af%e3%83%88%ef%bc%89
CATEGORIES:伝統行事
END:VEVENT
BEGIN:VEVENT
DTSTART;TZID=Asia/Tokyo:20230216T000000
DTEND;TZID=Asia/Tokyo:20230216T235959
DTSTAMP:20260425T000851
CREATED:20180310T115054Z
LAST-MODIFIED:20180310T115054Z
UID:10000009-1676505600-1676591999@wajimanavi.jp
SUMMARY:もっそう祭り
DESCRIPTION:年に一度の贅沢 \n昔々、年貢の取り立てで苦しんでいた農民が、密かに集まって隠し田で収穫した米を年に一度だけ腹いっぱい白い米を食べたのが始まりとされています。\n「もっそう」と呼ばれる木枠を使って輪島塗の朱色の椀に５合の白米を高さ１８cmに盛り付けます。 \nみんなで食べるおかずは、大根・人参・胡麻の酢和え、ごぼうの南蛮味噌和え、わらびの辛子味噌和え、豆腐とメギスの団子汁など。昔は、一杯８合のご飯を盛っていた時もあった。現在は、５合くらいだがほとんどの人が食べきれずに持ち帰る。 \n年々、地区の世帯は減少し、現在は１５世帯が持ち回りで当番の家を決め、伝統を守っている。
URL:https://wajimanavi.jp/event/%e3%82%82%e3%81%a3%e3%81%9d%e3%81%86%e7%a5%ad%e3%82%8a
CATEGORIES:伝統行事
ATTACH;FMTTYPE=image/jpeg:https://wajimanavi.jp/wp-content/uploads/2018/03/0000002447_l.jpg
END:VEVENT
BEGIN:VEVENT
DTSTART;TZID=Asia/Tokyo:20230813T183000
DTEND;TZID=Asia/Tokyo:20230813T183000
DTSTAMP:20260425T000851
CREATED:20230722T044951Z
LAST-MODIFIED:20230722T044951Z
UID:10000094-1691951400-1691951400@wajimanavi.jp
SUMMARY:8月13日（日）松明の夕べ　輪島市門前グラウンドゴルフ場　18:30頃
DESCRIPTION:精霊様（しょうらい＝先祖の霊）を迎えるため、高さ約10メートルの松明を燃やす。\n松明の明かりを頼りに海の彼方からきたご先祖様の霊を、提灯の明かりで家の仏壇まで道案内し迎える旧盆の行事に因んで行われている。\n海辺の特設ステージでは、バンド演奏などが行われる。 \n  \n開催日：８月１３日（日）\n時　間：午後６時３０分頃\n場　所：輪島市門前グラウンドゴルフ場
URL:https://wajimanavi.jp/event/taimatunoyuube
CATEGORIES:伝統行事
END:VEVENT
BEGIN:VEVENT
DTSTART;TZID=Asia/Tokyo:20230814T200000
DTEND;TZID=Asia/Tokyo:20230816T230000
DTSTAMP:20260425T000851
CREATED:20220713T010236Z
LAST-MODIFIED:20260115T093846Z
UID:10000040-1692043200-1692226800@wajimanavi.jp
SUMMARY:8月14日～16日【三夜踊り】マリンタウン特設会場　20:00〜23:00
DESCRIPTION:三夜踊りは毎年、盂蘭盆（8月14～16日）で踊られる。\nいわゆる盆踊りであるが、その起源は古く、千百余年前から重蔵権現の本尊の地蔵祭りに由来します。\n神仏のご加護を讃える老若男女が貧富の差なく境内で踊り明かし明治初期頃に一度すたれだしたが大正の終わりころから再び盛んになりました。\n\n開催日：令和5年8月14日(月)〜16日(水)\n開催時間：20:00〜23:00\n開催場所：マリンタウン特設会場\n\n \n\n〈問い合わせ〉\n三夜踊振興連絡会事務局(市文化課)\nTEL：0768-22-7666
URL:https://wajimanavi.jp/event/sanyaodori
CATEGORIES:伝統行事
ATTACH;FMTTYPE=image/jpeg:https://wajimanavi.jp/wp-content/uploads/2022/07/sanyaodori.jpg
END:VEVENT
END:VCALENDAR