BEGIN:VCALENDAR
VERSION:2.0
PRODID:-//輪島たび結び｜能登輪島観光情報発信｜輪島市観光課・観光協会公式サイト - ECPv6.15.17//NONSGML v1.0//EN
CALSCALE:GREGORIAN
METHOD:PUBLISH
X-WR-CALNAME:輪島たび結び｜能登輪島観光情報発信｜輪島市観光課・観光協会公式サイト
X-ORIGINAL-URL:https://wajimanavi.jp
X-WR-CALDESC:輪島たび結び｜能登輪島観光情報発信｜輪島市観光課・観光協会公式サイト のイベント
REFRESH-INTERVAL;VALUE=DURATION:PT1H
X-Robots-Tag:noindex
X-PUBLISHED-TTL:PT1H
BEGIN:VTIMEZONE
TZID:Asia/Tokyo
BEGIN:STANDARD
TZOFFSETFROM:+0900
TZOFFSETTO:+0900
TZNAME:JST
DTSTART:20210101T000000
END:STANDARD
END:VTIMEZONE
BEGIN:VEVENT
DTSTART;TZID=Asia/Tokyo:20231007T000000
DTEND;TZID=Asia/Tokyo:20231007T235959
DTSTAMP:20260423T071702
CREATED:20230613T000041Z
LAST-MODIFIED:20230613T000041Z
UID:10000086-1696636800-1696723199@wajimanavi.jp
SUMMARY:10月7日(土) 第8回 峨山道トレイルラン
DESCRIPTION:【峨山道トレイルラン】\n歴史古道「峨山道」のルーツである大本山總持寺が、2021年に開創700年を迎えました。\n全国に15\,000余の寺院と800万人の檀信徒を有する曹洞宗の礎を築いた總持寺第二祖の峨山禅師が、總持寺と永光寺の住職を兼職した間、13里(約52km)とも15里(約60km)ともいわれる急峻な道を駆けるように往来したと言われ、その道は「峨山道」として今に伝えられています。 \n700年間踏みしめられてきた「峨山道」で「第8回 峨山道トレイルラン」を「2023年10月7日(土)」に開催いたします。\n今年は「クラシカル(77km)」と「ミドル(30km)」の2コースです。\nトレイルランニングを通して、歴史とストーリーに溢れた古道と能登に育まれた禅文化、そして豊かな里山の自然を全国の皆様に発信することを目的とし、大会を開催します。 \nレース期間中は、飾らない里山の風景と素朴な人々の笑顔が皆様をお待ちいたしております。\nこの秋のレース計画に「峨山道トレイルラン」をお選びいただければ幸いに存じます。
URL:https://wajimanavi.jp/event/%e5%b3%a8%e5%b1%b1%e9%81%93%e3%83%88%e3%83%ac%e3%82%a4%e3%83%ab%e3%83%a9%e3%83%b3
LOCATION:剱地権現岩(トトロ岩)
CATEGORIES:イベント,スポーツ
ATTACH;FMTTYPE=image/jpeg:https://wajimanavi.jp/wp-content/uploads/2022/08/8bc1ec0c307dfd5d05f2be0fca51aeb3.jpg
END:VEVENT
BEGIN:VEVENT
DTSTART;TZID=Asia/Tokyo:20230617T000000
DTEND;TZID=Asia/Tokyo:20230618T235959
DTSTAMP:20260423T071702
CREATED:20230421T000036Z
LAST-MODIFIED:20230421T000036Z
UID:10000080-1686960000-1687132799@wajimanavi.jp
SUMMARY:2023年JAF全日本ダートトライアル選手権第5戦 ダートスプリント in 門前
DESCRIPTION:♦ギャラリー観戦は、6/18(日) 決勝日のみとなります。♦\n〇会場には直接行けませんのでシャトルバスをご利用ください。\n※シャトルバス乗車場所：門前グラウンドゴルフ場前・門前武道館前\n※シャトルバスは、午前6時50分から運行\n〇競技開始時間：午前8時25分～(予定)\n〇入場料：当日券のみ1\,500円(中学生以下は無料)\n※シャトルバス乗り場で購入できます。\n〇お問い合わせ先：門前総合支所地域振興課\nTEL:0768-42-1111\n \n【2023年 全日本ダートトライアル選手権】\n全日本選手権として申請された国内格式のダートトライアル競技会の中から、日本ジムカーナ/ダートトライアル選手権競技会に適合する競技会を、JAFは全日本ダートトライアル選手権競技会として認定しています。\n全国にあるJAF公認スピード競技コース（ダートトライアル）で開催され、北海道から九州までを転戦する最大8大会のシリーズ戦となっています。\n参加車両はスピードD車両やSC車両、SA･SAX車両、Ｎ車両、PN車両などが主力で、これら改造範囲の他に、排気量や駆動方式などによるPNE1からDまでのクラス分けがあります。\nこの内PNE1クラスとPNE2クラスにはオートマチック限定免許でも運転可能な車両で出場できるようになっています。\n輪島市門前モータースポーツ公園は、JAF公認第二種コース、施設総面積82\,915平方メートル、砂利路面、一部アスファルト舗装、最大直線約300ｍ。\n大自然の中で起伏にとんだコースでの走行が楽しめます。\n全国の走り屋が集う祭典です。 \n〇開催日\n2023年6月17日(土)→公開練習\n　　　6月18日(日)→決勝日\n〇開催場所：輪島市門前モータースポーツ公園
URL:https://wajimanavi.jp/event/%e3%83%80%e3%83%bc%e3%83%88%e3%82%b9%e3%83%97%e3%83%aa%e3%83%b3%e3%83%88in%e9%96%80%e5%89%8d
LOCATION:曽々木海岸・窓岩
CATEGORIES:イベント,スポーツ
ATTACH;FMTTYPE=image/jpeg:https://wajimanavi.jp/wp-content/uploads/2023/04/9cd6e46fd7f704665bbb811d71046a92.jpg
END:VEVENT
BEGIN:VEVENT
DTSTART;TZID=Asia/Tokyo:20230610T000000
DTEND;TZID=Asia/Tokyo:20230611T235959
DTSTAMP:20260423T071702
CREATED:20230423T011638Z
LAST-MODIFIED:20230423T011638Z
UID:10000090-1686355200-1686527999@wajimanavi.jp
SUMMARY:第40回 石川県ジュニアトランポリン競技選手権大会
DESCRIPTION:第40回 石川県ジュニアトランポリン競技選手権大会\n兼：第50回石川県トランポリン競技選手権大会選考会\n兼：第4回北信越ジュニアトランポリン競技選手権大会選考会\n兼：第9回全日本ジュニアトランポリン競技選手権大会予選会 \n開催日：令和5年6月10日(土)・11日(日)\n開催会場：輪島市一本松総合運動公園体育館 サンアリーナ
URL:https://wajimanavi.jp/event/%e7%ac%ac40%e5%9b%9e-%e7%9f%b3%e5%b7%9d%e7%9c%8c%e3%82%b8%e3%83%a5%e3%83%8b%e3%82%a2%e3%83%88%e3%83%a9%e3%83%b3%e3%83%9d%e3%83%aa%e3%83%b3%e7%ab%b6%e6%8a%80%e9%81%b8%e6%89%8b%e6%a8%a9%e5%a4%a7
CATEGORIES:スポーツ
END:VEVENT
BEGIN:VEVENT
DTSTART;TZID=Asia/Tokyo:20230415T000000
DTEND;TZID=Asia/Tokyo:20230416T235959
DTSTAMP:20260423T071702
CREATED:20230218T000018Z
LAST-MODIFIED:20230218T000018Z
UID:10000068-1681516800-1681689599@wajimanavi.jp
SUMMARY:全日本競歩輪島大会・日本陸上競技選手権35ｋｍ競歩
DESCRIPTION:第107回日本陸上競技選手権大会35km競歩・第62回全日本競歩輪島大会について、2023年4月15日(土)、16日(日)に標記大会が輪島市「道の駅ふらっと訪夢前往復コース」にて開催されます。\nまた15日(土)には「第14回スピードウォーク大会」も開催されます。 \n \n  \n 
URL:https://wajimanavi.jp/event/kyoho
LOCATION:時国家(上時国家)
CATEGORIES:イベント,スポーツ
ATTACH;FMTTYPE=image/jpeg:https://wajimanavi.jp/wp-content/uploads/2021/03/2023B3_20230131_pages-to-jpg-0001-scaled-1.jpg
END:VEVENT
BEGIN:VEVENT
DTSTART;TZID=Asia/Tokyo:20220416T073000
DTEND;TZID=Asia/Tokyo:20220417T170000
DTSTAMP:20260423T071702
CREATED:20220415T101204Z
LAST-MODIFIED:20220415T101204Z
UID:10000038-1650094200-1650214800@wajimanavi.jp
SUMMARY:全日本競歩輪島大会のための車両通行止めについて
DESCRIPTION:  \n \n 
URL:https://wajimanavi.jp/event/kyouhosyaryou
LOCATION:時国家(上時国家)
CATEGORIES:スポーツ
ATTACH;FMTTYPE=image/jpeg:https://wajimanavi.jp/wp-content/uploads/2022/04/koutuu-scaled-1.jpg
END:VEVENT
END:VCALENDAR