BEGIN:VCALENDAR
VERSION:2.0
PRODID:-//輪島たび結び｜能登輪島観光情報発信｜輪島市観光課・観光協会公式サイト - ECPv6.15.17//NONSGML v1.0//EN
CALSCALE:GREGORIAN
METHOD:PUBLISH
X-WR-CALNAME:輪島たび結び｜能登輪島観光情報発信｜輪島市観光課・観光協会公式サイト
X-ORIGINAL-URL:https://wajimanavi.jp
X-WR-CALDESC:輪島たび結び｜能登輪島観光情報発信｜輪島市観光課・観光協会公式サイト のイベント
REFRESH-INTERVAL;VALUE=DURATION:PT1H
X-Robots-Tag:noindex
X-PUBLISHED-TTL:PT1H
BEGIN:VTIMEZONE
TZID:Asia/Tokyo
BEGIN:STANDARD
TZOFFSETFROM:+0900
TZOFFSETTO:+0900
TZNAME:JST
DTSTART:20180101T000000
END:STANDARD
END:VTIMEZONE
BEGIN:VEVENT
DTSTART;TZID=Asia/Tokyo:20230611T090000
DTEND;TZID=Asia/Tokyo:20230611T120000
DTSTAMP:20260423T065413
CREATED:20230422T064545Z
LAST-MODIFIED:20230422T064545Z
UID:10000089-1686474000-1686484800@wajimanavi.jp
SUMMARY:白米千枚田 草取り
DESCRIPTION:白米千枚田では、稲のまわりの雑草を人の手で取り除いて作業を行います。
URL:https://wajimanavi.jp/event/%e7%99%bd%e7%b1%b3%e5%8d%83%e6%9e%9a%e7%94%b0%e3%80%80%e8%8d%89%e5%8f%96%e3%82%8a
LOCATION:Calendar Views (イベント Archive)
CATEGORIES:イベント,千枚田
ATTACH;FMTTYPE=image/jpeg:https://wajimanavi.jp/wp-content/uploads/2023/04/16821435364181.jpg
END:VEVENT
BEGIN:VEVENT
DTSTART;TZID=Asia/Tokyo:20230507T103000
DTEND;TZID=Asia/Tokyo:20230507T123000
DTSTAMP:20260423T065413
CREATED:20230326T000038Z
LAST-MODIFIED:20230326T000038Z
UID:10000064-1683455400-1683462600@wajimanavi.jp
SUMMARY:白米千枚田　田植えイベント
DESCRIPTION:5/5(金)に能登半島沖で震度６強の地震が発生し、輪島市でも震度5弱を観測しました。 \n輪島市内では5/6(土)9:00現在、被害は確認されておりませんので、5/7(日)の白米千枚田の田植えは予定どおり実施いたします。 \nもし変更があれば、白米千枚田のHPでご案内いたします。 \n【白米千枚田 田植えイベント】 \n白米千枚田では５月7日（日）に田植えイベントを行います。\n大勢のオーナー会員の方々やボランティアの方々が参加する千枚田の一大イベントとなっております。 \n＝＝＝＝＝＝＝白米千枚田　田植えイベント＝＝＝＝＝＝＝\n受付開始：10:30～　　終了予定：12:30\n＝＝＝＝＝＝＝＝＝＝＝＝＝＝＝＝＝＝＝＝＝＝＝＝＝＝＝\n※雨天中止 \n【無料シャトルバス】\n田植え当日は、千枚田周辺が大変混雑しますので無料シャトルバスをご利用下さい。\n・名舟漁港⇔千枚田 9:00～13:30(随時運航しています。) \n【田植え参加の方（ボランティア＆千枚田オーナー）用シャトルバス】\n・マリンタウン発(千枚田行) 8:45 、9:00、9:45、10:00\n・千枚田発(マリンタウン行) 12:30、12:50、13:15、13:45 \n \n 
URL:https://wajimanavi.jp/event/%e5%8d%83%e6%9e%9a%e7%94%b0%e3%80%80%e7%94%b0%e6%a4%8d%e3%81%88
LOCATION:Calendar Views (イベント Archive)
CATEGORIES:イベント,千枚田
ATTACH;FMTTYPE=image/jpeg:https://wajimanavi.jp/wp-content/uploads/2023/03/064d284254978508bc859085225a227b.jpg
END:VEVENT
BEGIN:VEVENT
DTSTART;TZID=Asia/Tokyo:20230416T000000
DTEND;TZID=Asia/Tokyo:20230416T235959
DTSTAMP:20260423T065413
CREATED:20230218T000012Z
LAST-MODIFIED:20230218T000012Z
UID:10000062-1681603200-1681689599@wajimanavi.jp
SUMMARY:千枚田　あぜ塗り
DESCRIPTION:水入れ前の大事な作業！ \nあぜ塗りとは、田んぼの土を田んぼを取り囲む土の壁に塗りつけ、割れ目や穴を防ぐ防水加工のことです！ \nあぜ塗りをすることで、冬場の間に出来た小さなヒビや、動物や昆虫が空けた穴から水が洩れるのを防ぎます。水の管理や、肥料・除草剤の効果を高める為に行うとても大切な作業です。 \n力仕事ですが、美味しい千枚田のお米を収穫するためにも頑張りましょう。
URL:https://wajimanavi.jp/event/senmaidaazenuri
LOCATION:Calendar Views (イベント Archive)
CATEGORIES:イベント,千枚田
ATTACH;FMTTYPE=image/jpeg:https://wajimanavi.jp/wp-content/uploads/2023/02/16814301052811.jpg
END:VEVENT
BEGIN:VEVENT
DTSTART;TZID=Asia/Tokyo:20230402T090000
DTEND;TZID=Asia/Tokyo:20230402T120000
DTSTAMP:20260423T065413
CREATED:20230218T000047Z
LAST-MODIFIED:20230218T000047Z
UID:10000061-1680426000-1680436800@wajimanavi.jp
SUMMARY:白米千枚田　田起こし
DESCRIPTION:千枚田の１年のはじまり！\n千枚田の新たな一年の始まりを告げる「田起こし」！ \n鍬を振り、土をほぐし、来たる田植えに備えて良い土壌づくりを行います。\nとても体力が必要な作業になりますので、オーナー会員の皆さんは覚悟してきてくださいね。\n詳しくは時期が近づき次第更新致します。
URL:https://wajimanavi.jp/event/senmaidataokosi
LOCATION:Calendar Views (イベント Archive)
CATEGORIES:イベント,千枚田
ATTACH;FMTTYPE=image/jpeg:https://wajimanavi.jp/wp-content/uploads/2018/03/0000002344_l.jpg
END:VEVENT
BEGIN:VEVENT
DTSTART;TZID=Asia/Tokyo:20220918T083000
DTEND;TZID=Asia/Tokyo:20220918T110000
DTSTAMP:20260423T065413
CREATED:20180310T112419Z
LAST-MODIFIED:20180310T112419Z
UID:10000005-1663489800-1663498800@wajimanavi.jp
SUMMARY:2022年 千枚田稲刈りイベント
DESCRIPTION:[siteorigin_widget class=”SiteOrigin_Widget_Image_Widget”][/siteorigin_widget]\n\n\n[siteorigin_widget class=”SiteOrigin_Widget_Image_Widget”][/siteorigin_widget]\n\n\n\n\n\n \n★ボランティアは、定員に達しましたので受付は終了しました。\n\n日時:令和4年9月18日(日) 9:00〜 (受付8:30～9:00) \n受付場所:千枚田ポケットパーク駐車場 \n定員:150人　（申し込みは締め切りました） \n終了時刻:11:00頃 \n汚れても大丈夫な格好でお越しください。 \n鎌と軍手はこちらで用意します。 \n市街地方面から千枚田より2㎞先の名舟漁港を臨時駐車場として、シャトルバスを随時運行しますので、お車でお越しの際はシャトルバスで千枚田までお越しください。 \nシャトルバス 名舟漁港⇔千枚田 8:00〜13:00 \n作業終了後、お茶と新米のおにぎりとお味噌汁（輪島ふぐ）を用意しております。 \nなお、新型コロナウイルス感染拡大防止の観点から、事前予約制といたしました。 \n※新型コロナウイルス感染拡大状況次第では中止や変更になる場合がありますのでご了承願います。 \n★お申し込み先　輪島市観光課　TEL　0768-23-1146　mail : kankou@city@wajima.lg.jp
URL:https://wajimanavi.jp/event/kekkonshiki-inekari
LOCATION:Calendar Views (イベント Archive)
CATEGORIES:イベント,千枚田
ATTACH;FMTTYPE=image/jpeg:https://wajimanavi.jp/wp-content/uploads/2018/03/200922g_3.jpg
END:VEVENT
BEGIN:VEVENT
DTSTART;TZID=Asia/Tokyo:20201017T000000
DTEND;TZID=Asia/Tokyo:20201017T235959
DTSTAMP:20260423T065413
CREATED:20200910T234546Z
LAST-MODIFIED:20260127T013025Z
UID:10000027-1602892800-1602979199@wajimanavi.jp
SUMMARY:あぜのきらめきオープニングイベント
DESCRIPTION:2020年10月17日（土）のオープニングイベントは中止となります。\n\n\n\n\n 
URL:https://wajimanavi.jp/event/azenokirameki
CATEGORIES:千枚田
ATTACH;FMTTYPE=image/jpeg:https://wajimanavi.jp/wp-content/uploads/2020/09/azekira20203.jpg
END:VEVENT
BEGIN:VEVENT
DTSTART;TZID=Asia/Tokyo:20200201T000000
DTEND;TZID=Asia/Tokyo:20200214T235959
DTSTAMP:20260423T065413
CREATED:20191011T002348Z
LAST-MODIFIED:20191011T002348Z
UID:10000031-1580515200-1581724799@wajimanavi.jp
SUMMARY:きらめきバレンタイン
DESCRIPTION:きらめきバレンタイン期間は令和2年2月1日～令和2年2月14日までです。期間中は千枚田に設置してあるハート型のモニュメントと幸せの鐘などお好きなスポットで写真を撮っていただきますと、千枚田ポケットパーク店内にて写真の印刷が無料でできます。この機会にぜひ大切な人と撮ってみてはいかがでしょうか？店内には印刷した写真を、ハートの台紙にメッセージを添えて、窓に飾るコーナーも設けてあります♬
URL:https://wajimanavi.jp/event/kirameki-v
LOCATION:Calendar Views (イベント Archive)
CATEGORIES:千枚田
ATTACH;FMTTYPE=image/jpeg:https://wajimanavi.jp/wp-content/uploads/2019/10/7ec92d9f0605755276bd45f0040849d6.jpg
END:VEVENT
BEGIN:VEVENT
DTSTART;TZID=Asia/Tokyo:20191201T000000
DTEND;TZID=Asia/Tokyo:20191225T235959
DTSTAMP:20260423T065413
CREATED:20191011T001348Z
LAST-MODIFIED:20191011T001348Z
UID:10000029-1575158400-1577318399@wajimanavi.jp
SUMMARY:きらめきクリスマス
DESCRIPTION:きらめきクリスマス期間は令和元年12月1日～令和元年12月25日までです。\n期間中は千枚田に設置してある雪吊りをイメージしたクリスマスツリ－などお好きなスポットで写真を撮っていただきますと、千枚田ポケットパーク店内にて写真の印刷が無料でできます。この機会にぜひ撮ってみてはいかがでしょうか？店内には印刷した写真を、ハートの台紙にメッセージを添えて、窓に飾るコーナーも設けてあります♬
URL:https://wajimanavi.jp/event/kiramekikurisumasu
LOCATION:Calendar Views (イベント Archive)
CATEGORIES:千枚田
ATTACH;FMTTYPE=image/jpeg:https://wajimanavi.jp/wp-content/uploads/2019/10/k1.jpg
END:VEVENT
END:VCALENDAR